BEGIN:VCALENDAR
VERSION:2.0
PRODID:-//ChamberMaster//Event Calendar 2.0//EN
METHOD:PUBLISH
X-PUBLISHED-TTL:P3D
REFRESH-INTERVAL:P3D
CALSCALE:GREGORIAN
BEGIN:VEVENT
DTSTART;VALUE=DATE:20200321
DTEND;VALUE=DATE:20200322
TRANSP:TRANSPARENT
X-MICROSOFT-CDO-ALLDAYEVENT:TRUE
SUMMARY:Food Pantry Distribution
DESCRIPTION:Saturday\, March 21st distribution modifications:\n\n1. Distribution time will be 9:30   11:00\n\n\n2. Any car not in line by 11am will have to wait until the next distribution on Wednesday\, March 25th.\n\n3. Distribution will be a drive through pickup\n\n4. Patrons will line up on Industry Rd\, North side of the road facing West at the entrance of the driveway of the food pantry. Watch for the sandwich board sign.\n\na. When distribution starts patrons will be directed to drive into the parking lot along the right side of the driveway   YOU WILL NOT BE PARKING OR GETTING OUT OF YOUR CAR\n\nb. Drive down toward the garage door stopping by the volunteer who will check you in\n\ni. At check in the volunteer may ask you a series of questions\, name\, address\, etc.\n\nii. When the volunteer has finished checking you in proceed to the garage door where you will receive your food box/bags\n\n1. Please pop your trunk/hatchback open so your food box/bags can be placed in your vehicle\n\niii. Boxes/bags will be prepackaged and will include dry goods\, frozen foods and fresh produce\n\n1. NO SPECIAL REQUESTS\n\n2. If you do not have freezer space or much refrigerator space and want to decline the frozen or produce portions tell the volunteer who retrieves your box. (the entire frozen or entire fresh produce will be pulled from your box)\n\nc. Once you have received your box/bags the volunteer will close your trunk and you may loop left and out of the parking lot.\n\nAgain\, we are doing everything we can to keep you\, your family and our volunteers safe and healthy!\n\nThank you for your continued patience and understanding as we all work through this together!
X-ALT-DESC;FMTTYPE=text/html:<p style="margin: 6px 0px\; font-family: Helvetica\, Arial\, sans-serif\; color: rgb(28\, 30\, 33)\; font-size: 14px\;">Saturday\, March 21st distribution modifications:</p>\n\n<p style="margin: 6px 0px\; font-family: Helvetica\, Arial\, sans-serif\; color: rgb(28\, 30\, 33)\; font-size: 14px\;">1. Distribution time will be 9:30 &ndash\; 11:00</p>\n\n<div class="text_exposed_show" style="display: inline\; font-family: Helvetica\, Arial\, sans-serif\; color: rgb(28\, 30\, 33)\; font-size: 14px\;">\n<p style="margin: 0px 0px 6px\; font-family: inherit\;">2. Any car not in line by 11am will have to wait until the next distribution on Wednesday\, March 25th.</p>\n\n<p style="margin: 6px 0px\; font-family: inherit\;">3. Distribution will be a drive through pickup</p>\n\n<p style="margin: 6px 0px\; font-family: inherit\;">4. Patrons will line up on Industry Rd\, North side of the road facing West at the entrance of the driveway of the food pantry. Watch for the sandwich board sign.</p>\n\n<p style="margin: 6px 0px\; font-family: inherit\;">a. When distribution starts patrons will be directed to drive into the parking lot along the right side of the driveway &ndash\; YOU WILL NOT BE PARKING OR GETTING OUT OF YOUR CAR</p>\n\n<p style="margin: 6px 0px\; font-family: inherit\;">b. Drive down toward the garage door stopping by the volunteer who will check you in</p>\n\n<p style="margin: 6px 0px\; font-family: inherit\;">i. At check in the volunteer may ask you a series of questions\, name\, address\, etc.</p>\n\n<p style="margin: 6px 0px\; font-family: inherit\;">ii. When the volunteer has finished checking you in proceed to the garage door where you will receive your food box/bags</p>\n\n<p style="margin: 6px 0px\; font-family: inherit\;">1. Please pop your trunk/hatchback open so your food box/bags can be placed in your vehicle</p>\n\n<p style="margin: 6px 0px\; font-family: inherit\;">iii. Boxes/bags will be prepackaged and will include dry goods\, frozen foods and fresh produce</p>\n\n<p style="margin: 6px 0px\; font-family: inherit\;">1. NO SPECIAL REQUESTS</p>\n\n<p style="margin: 6px 0px\; font-family: inherit\;">2. If you do not have freezer space or much refrigerator space and want to decline the frozen or produce portions tell the volunteer who retrieves your box. (the entire frozen or entire fresh produce will be pulled from your box)</p>\n\n<p style="margin: 6px 0px\; font-family: inherit\;">c. Once you have received your box/bags the volunteer will close your trunk and you may loop left and out of the parking lot.</p>\n\n<p style="margin: 6px 0px\; font-family: inherit\;">Again\, we are doing everything we can to keep you\, your family and our volunteers safe and healthy!</p>\n\n<p style="margin: 6px 0px\; font-family: inherit\;">Thank you for your continued patience and understanding as we all work through this together!</p>\n</div>\n
LOCATION:
UID:e.1184.24357
SEQUENCE:3
DTSTAMP:20260423T025230Z
URL:http://members.saukprairie.com/events/details/food-pantry-distribution-24357
END:VEVENT

END:VCALENDAR
