BEGIN:VCALENDAR
VERSION:2.0
PRODID:-//ChamberMaster//Event Calendar 2.0//EN
METHOD:PUBLISH
X-PUBLISHED-TTL:P3D
REFRESH-INTERVAL:P3D
CALSCALE:GREGORIAN
BEGIN:VEVENT
DTSTART:20200216T200000Z
DTEND:20200216T223000Z
X-MICROSOFT-CDO-ALLDAYEVENT:FALSE
SUMMARY:For the Love of Animals Donation Based Class for Sauk County Humane Society
DESCRIPTION:Prairie Fire Yoga Donation Based Event with Sauk County Humane Society\nIn an effort to give back to the community and bring awareness to animals in need of forever homes\, PFY is hosting 2 donation-based yoga classes for all levels.\n\nSunday February 16th\n\n2:00-3:00pm Fusion HIIT Class\n\n3:30-4:00pm Love the animals that are on site available for adoption\n\n3:30-4:30pm Flow Yoga\n\nHow to participate: sign up online and bring your item(s) or cash for donation on the day of the event.\n\nWISHLIST\n\n#1 need: copier paper (white\, colored\, card stock) #1 need: Bleach\n\nExpo Dry Erase Markers Clay Non-Clumping Litter\n\nThermal Laminating Pouches Kennel Cat Scratchers\n\nLetter Size Manila Folders Liquid Dish Soap & HE laundry soap\n\nQuart Size Storage Bags 50 Gallon Garbage Bags (Heavy Duty)\n\nClorox Wipes Cotton Swabs & Lint Rollers\n\nHand Sanitizer Training Pads\n\nTissue/ Kleenex Timothy Hay\n\nEZ Correct White Out Small Critter Toys & Treats\n\nMasking Tape Havahart Live Traps (raccoon size)\n\nFine Point Permanent Markers Bathroom Wash Clothes & Towels\n\nGift Cards: Walmart\, Menards\, Farm & Fleet\, Gas/Grocery\, Walgreens Food: Purina Kitten Chow\, soft/wet dog food\, Science Diet soft kitten food
X-ALT-DESC;FMTTYPE=text/html:<strong>Prairie Fire Yoga Donation Based Event with Sauk County Humane Society</strong>\n<p>In an effort to give back to the community and bring awareness to animals in need of forever homes\, PFY is hosting 2 donation-based yoga classes for all levels.</p>\n\n<p>Sunday February 16th<br />\n2:00-3:00pm Fusion HIIT Class<br />\n3:30-4:00pm Love the animals that are on site available for adoption<br />\n3:30-4:30pm Flow Yoga</p>\n\n<p>How to participate: sign up online and bring your item(s) or cash for donation on the day of the event.</p>\n\n<p>WISHLIST<br />\n#1 need: copier paper (white\, colored\, card stock) #1 need: Bleach<br />\nExpo Dry Erase Markers Clay Non-Clumping Litter<br />\nThermal Laminating Pouches Kennel Cat Scratchers<br />\nLetter Size Manila Folders Liquid Dish Soap &amp\; HE laundry soap<br />\nQuart Size Storage Bags 50 Gallon Garbage Bags (Heavy Duty)<br />\nClorox Wipes Cotton Swabs &amp\; Lint Rollers<br />\nHand Sanitizer Training Pads<br />\nTissue/ Kleenex Timothy Hay<br />\nEZ Correct White Out Small Critter Toys &amp\; Treats<br />\nMasking Tape Havahart Live Traps (raccoon size)<br />\nFine Point Permanent Markers Bathroom Wash Clothes &amp\; Towels<br />\nGift Cards: Walmart\, Menards\, Farm &amp\; Fleet\, Gas/Grocery\, Walgreens Food: Purina Kitten Chow\, soft/wet dog food\, Science Diet soft kitten food</p>\n\n<p>&nbsp\;</p>\n
LOCATION:Prairie Fire Yoga 560 Park Ave Prairie du Sac\, WI 53578
UID:e.1184.24031
SEQUENCE:3
DTSTAMP:20260423T041525Z
URL:http://members.saukprairie.com/events/details/for-the-love-of-animals-donation-based-class-for-sauk-county-humane-society-24031
END:VEVENT

END:VCALENDAR
