BEGIN:VCALENDAR
VERSION:2.0
PRODID:-//ChamberMaster//Event Calendar 2.0//EN
METHOD:PUBLISH
X-PUBLISHED-TTL:P3D
REFRESH-INTERVAL:P3D
CALSCALE:GREGORIAN
BEGIN:VEVENT
DTSTART:20221031T203000Z
DTEND:20221031T213000Z
X-MICROSOFT-CDO-ALLDAYEVENT:FALSE
SUMMARY:Frankenstein's Lab
DESCRIPTION:Teens\, ages 12-18\, can become Dr. Frankenstein this Halloween as they stitch\, combine\, and fuse old stuffed animals and toys in the freakiest of combinations\, creating their own Franken-toy! All supplies are included\, but contributions of old toys are welcome.
X-ALT-DESC;FMTTYPE=text/html:Teens\, ages 12-18\, can become Dr. Frankenstein this Halloween as they stitch\, combine\, and fuse old stuffed animals and toys in the freakiest of combinations\, creating their own Franken-toy! All supplies are included\, but contributions of old toys are welcome.
LOCATION:615 Phillips Blvd Sauk City\, WI 53583
UID:e.1184.28733
SEQUENCE:3
DTSTAMP:20260421T032241Z
URL:http://members.saukprairie.com/events/details/frankenstein-s-lab-28733
END:VEVENT

END:VCALENDAR
