BEGIN:VCALENDAR
VERSION:2.0
PRODID:-//ChamberMaster//Event Calendar 2.0//EN
METHOD:PUBLISH
X-PUBLISHED-TTL:P3D
REFRESH-INTERVAL:P3D
CALSCALE:GREGORIAN
BEGIN:VEVENT
DTSTART:20210419T223000Z
DTEND:20210420T004500Z
X-MICROSOFT-CDO-ALLDAYEVENT:FALSE
SUMMARY:FREE 6:8 Drive-Thru Virtual Community Meal
DESCRIPTION:Join us on Monday\, April 19th for a FREE drive-thru community meal! Open to EVERYONE!\n\nDrive Thru Dinner @ 6:8 (821 Industry Rd) ~ 5:30-6:30 PM\n\nVirtual Bingo ~ 6:45 PM\n\nJoin on our website at MakingServicePersonal.org and play for your chance to WIN!!!\n\nPrizes include:\n\nGiftcards\, T-Shirts & More!\n\nGRAND PRIZE for the Final Round ~ $50 CASH!
X-ALT-DESC;FMTTYPE=text/html:<div><span dir="auto" style="background-color:rgb(255\, 255\, 255)\; color:var(--primary-text)\; font-family:segoe ui historic\,segoe ui\,helvetica\,arial\,sans-serif\; font-size:0.875rem">Join us on Monday\, April 19th for a FREE drive-thru community meal! Open to EVERYONE!</span></div>\n\n<div><span dir="auto" style="background-color:rgb(255\, 255\, 255)\; color:var(--primary-text)\; font-family:segoe ui historic\,segoe ui\,helvetica\,arial\,sans-serif\; font-size:0.875rem">Drive Thru Dinner @ 6:8 (821 Industry Rd) ~ 5:30-6:30 PM</span></div>\n\n<div><span dir="auto" style="background-color:rgb(255\, 255\, 255)\; color:var(--primary-text)\; font-family:segoe ui historic\,segoe ui\,helvetica\,arial\,sans-serif\; font-size:0.875rem">Virtual Bingo ~ 6:45 PM</span></div>\n\n<div><span dir="auto" style="background-color:rgb(255\, 255\, 255)\; color:var(--primary-text)\; font-family:segoe ui historic\,segoe ui\,helvetica\,arial\,sans-serif\; font-size:0.875rem">Join on our website at&nbsp\;<a class="oajrlxb2 g5ia77u1 qu0x051f esr5mh6w e9989ue4 r7d6kgcz rq0escxv nhd2j8a9 nc684nl6 p7hjln8o kvgmc6g5 cxmmr5t8 oygrvhab hcukyx3x jb3vyjys rz4wbd8a qt6c0cv9 a8nywdso i1ao9s8h esuyzwwr f1sip0of lzcic4wl py34i1dx gpro0wi8" href="http://makingservicepersonal.org/?fbclid=IwAR3UzQ79NNIQK2lJnsUsx9RITMLw2ihQzFBfmzP1mNpVb_1DsnEx1p3hvdE" rel="nofollow noopener" style="cursor: pointer\; text-decoration-line: none\; outline: none\; list-style: none\; border-width: 0px\; border-style: initial\; border-color: initial\; padding: 0px\; margin: 0px\; touch-action: manipulation\; background-color: transparent\; text-align: inherit\; display: inline\; -webkit-tap-highlight-color: transparent\; box-sizing: border-box\; font-family: inherit\;" tabindex="0" target="_blank">MakingServicePersonal.org</a>&nbsp\;and play for your chance to WIN!!!</span></div>\n\n<div><span dir="auto" style="background-color:rgb(255\, 255\, 255)\; color:var(--primary-text)\; font-family:segoe ui historic\,segoe ui\,helvetica\,arial\,sans-serif\; font-size:0.875rem">Prizes include:<br />\nGiftcards\, T-Shirts &amp\; More!<br />\nGRAND PRIZE for the Final Round ~ $50 CASH!&nbsp\;</span></div>\n\n<div>\n<div style="text-align:inherit">&nbsp\;</div>\n</div>\n
LOCATION:6:8 821 Industry Rd Sauk City\, WI 53583
UID:e.1184.26567
SEQUENCE:3
DTSTAMP:20260422T063626Z
URL:http://members.saukprairie.com/events/details/free-6-8-drive-thru-virtual-community-meal-26567
END:VEVENT

END:VCALENDAR
