BEGIN:VCALENDAR
VERSION:2.0
PRODID:-//ChamberMaster//Event Calendar 2.0//EN
METHOD:PUBLISH
X-PUBLISHED-TTL:P3D
REFRESH-INTERVAL:P3D
CALSCALE:GREGORIAN
BEGIN:VEVENT
DTSTART:20200222T233000Z
DTEND:20200223T023000Z
X-MICROSOFT-CDO-ALLDAYEVENT:FALSE
SUMMARY:FREE Family Movie Night
DESCRIPTION:All ages are welcome. Enjoy a free family friendly movie at the Community Center. Movies are shown on a huge 12 ft screen. Bring your own Blanket or bean bags to sit on. Concessions will be for sale!
X-ALT-DESC;FMTTYPE=text/html:All ages are welcome. Enjoy a free family friendly movie at the Community Center. Movies are shown on a huge 12 ft screen. Bring your own Blanket or bean bags to sit on. Concessions will be for sale!
LOCATION:Sauk Prairie Community Center 730 Monroe St Sauk City\, WI 53583
UID:e.1184.23998
SEQUENCE:3
DTSTAMP:20260423T041612Z
URL:http://members.saukprairie.com/events/details/free-family-movie-night-23998
END:VEVENT

END:VCALENDAR
