BEGIN:VCALENDAR
VERSION:2.0
PRODID:-//ChamberMaster//Event Calendar 2.0//EN
METHOD:PUBLISH
X-PUBLISHED-TTL:P3D
REFRESH-INTERVAL:P3D
CALSCALE:GREGORIAN
BEGIN:VEVENT
DTSTART:20220701T180000Z
DTEND:20220701T200000Z
X-MICROSOFT-CDO-ALLDAYEVENT:FALSE
SUMMARY:Free Friday Flick
DESCRIPTION:Joins us for an interactive favorite! Be part of the action during a special screening of Finding Nemo. Everyone gets a script\, bag of props and snacks needed to interact with the movie.
X-ALT-DESC;FMTTYPE=text/html:Joins us for an interactive favorite! Be part of the action during a special screening of Finding Nemo. Everyone gets a script\, bag of props and snacks needed to interact with the movie.
LOCATION:615 Phillips Blvd\, Sauk City\, WI 53583
UID:e.1184.27957
SEQUENCE:3
DTSTAMP:20260421T090918Z
URL:http://members.saukprairie.com/events/details/free-friday-flick-07-01-2022-27957
END:VEVENT

END:VCALENDAR
