BEGIN:VCALENDAR
VERSION:2.0
PRODID:-//ChamberMaster//Event Calendar 2.0//EN
METHOD:PUBLISH
X-PUBLISHED-TTL:P3D
REFRESH-INTERVAL:P3D
CALSCALE:GREGORIAN
BEGIN:VEVENT
DTSTART:20180706T180000Z
DTEND:20180706T200000Z
X-MICROSOFT-CDO-ALLDAYEVENT:FALSE
SUMMARY:Free Friday Flick
DESCRIPTION:All are welcome to this family-friendly movie. This month we go back to a classic musical about a nanny and her two kids. Please call the library for the full title. Popcorn and bottled water will be served.
X-ALT-DESC;FMTTYPE=text/html:<span style="background-color:transparent\; color:rgb(0\, 0\, 0)\; font-family:arial\; font-size:11pt">All are welcome to this family-friendly movie. This month we go back to a classic musical about a nanny and her two kids. Please call the library for the full title. Popcorn and bottled water will be served.</span>
LOCATION:515 Water St Sauk City\, WI 53583
UID:e.1184.19391
SEQUENCE:3
DTSTAMP:20260424T082606Z
URL:http://members.saukprairie.com/events/details/free-friday-flick-07-06-2018-19391
END:VEVENT

END:VCALENDAR
