BEGIN:VCALENDAR
VERSION:2.0
PRODID:-//ChamberMaster//Event Calendar 2.0//EN
METHOD:PUBLISH
X-PUBLISHED-TTL:P3D
REFRESH-INTERVAL:P3D
CALSCALE:GREGORIAN
BEGIN:VEVENT
DTSTART:20170728T180000Z
DTEND:20170728T200000Z
X-MICROSOFT-CDO-ALLDAYEVENT:FALSE
SUMMARY:Free Friday Flick
DESCRIPTION:All are welcome to this family-friendly movie. \n\n\n\nThis month watch a new children's film about how a girl saves her father from ruin and finds love in an unexpected place. The movie is rated PG and runs 2 hours and 10 minutes. Please call the library for the full title.\n\n\n\nAdults must accompany children under 5. Popcorn and bottled water will be served.
X-ALT-DESC;FMTTYPE=text/html:<p><span style="background-color:transparent\; color:rgb(0\, 0\, 0)\; font-family:arial\; font-size:11pt">All are welcome to this family-friendly movie. </span><br />\n<br />\n<span style="color:rgb(0\, 0\, 0)\; font-family:arial\; font-size:11pt">This month watch a new children&#39\;s film about how a girl saves her father from ruin and finds love in an unexpected place</span><span style="background-color:transparent\; color:rgb(0\, 0\, 0)\; font-family:arial\; font-size:11pt">. The movie is rated PG and runs 2 hours and 10 minutes. Please call the library for the full title.<br />\n<br />\nAdults must accompany children under 5. Popcorn and bottled water will be served.</span></p>\n\n<div>&nbsp\;</div>\n\n<div>&nbsp\;</div>\n
LOCATION:515 Water Street Sauk City\, WI 53583 (608) 643-8346
UID:e.1184.11765
SEQUENCE:3
DTSTAMP:20260425T032052Z
URL:http://members.saukprairie.com/events/details/free-friday-flick-07-28-2017-11765
END:VEVENT

END:VCALENDAR
