BEGIN:VCALENDAR
VERSION:2.0
PRODID:-//ChamberMaster//Event Calendar 2.0//EN
METHOD:PUBLISH
X-PUBLISHED-TTL:P3D
REFRESH-INTERVAL:P3D
CALSCALE:GREGORIAN
BEGIN:VEVENT
DTSTART:20220729T180000Z
DTEND:20220729T200000Z
X-MICROSOFT-CDO-ALLDAYEVENT:FALSE
SUMMARY:Free Friday Flick
DESCRIPTION:Dock & Design\n\n\n\nAhoy Mateys! Live the life of a pirate by creating a ship out of a cardboard box and sailing through a showing of Muppet Treasure Island. Snacks will be served.
X-ALT-DESC;FMTTYPE=text/html:Dock &amp\; Design<br />\n<br />\nAhoy Mateys! Live the life of a pirate by creating a ship out of a cardboard box and sailing through a showing of <em>Muppet Treasure Island</em>. Snacks will be served.
LOCATION:615 Phillips Blvd. Sauk City\, WI 53583
UID:e.1184.28175
SEQUENCE:3
DTSTAMP:20260421T090730Z
URL:http://members.saukprairie.com/events/details/free-friday-flick-07-29-2022-28175
END:VEVENT

END:VCALENDAR
