BEGIN:VCALENDAR
VERSION:2.0
PRODID:-//ChamberMaster//Event Calendar 2.0//EN
METHOD:PUBLISH
X-PUBLISHED-TTL:P3D
REFRESH-INTERVAL:P3D
CALSCALE:GREGORIAN
BEGIN:VEVENT
DTSTART:20180824T180000Z
DTEND:20180824T200000Z
X-MICROSOFT-CDO-ALLDAYEVENT:FALSE
SUMMARY:Free Friday Flick
DESCRIPTION:All are welcome to this family-friendly movie. During the Day of the Dead celebrations\, a young boy follows his heart and his love for music to discover the importance of family. Please call the library for the full title. Popcorn and bottled water will be served.
X-ALT-DESC;FMTTYPE=text/html:<span style="background-color:transparent\; color:rgb(0\, 0\, 0)\; font-family:arial\; font-size:11pt">All are welcome to this family-friendly movie. During the Day of the Dead celebrations\, a young boy follows his heart and his love for music to discover the importance of family. Please call the library for the full title. Popcorn and bottled water will be served.</span>
LOCATION:515 Water St Sauk City\, WI 53583
UID:e.1184.19393
SEQUENCE:3
DTSTAMP:20260424T064530Z
URL:http://members.saukprairie.com/events/details/free-friday-flick-08-24-2018-19393
END:VEVENT

END:VCALENDAR
