BEGIN:VCALENDAR
VERSION:2.0
PRODID:-//ChamberMaster//Event Calendar 2.0//EN
METHOD:PUBLISH
X-PUBLISHED-TTL:P3D
REFRESH-INTERVAL:P3D
CALSCALE:GREGORIAN
BEGIN:VEVENT
DTSTART:20170825T180000Z
DTEND:20170825T200000Z
X-MICROSOFT-CDO-ALLDAYEVENT:FALSE
SUMMARY:Free Friday Flick
DESCRIPTION:Come and see our Free Friday Flick! Each month we will be showing a new family friendly movie at the library.\n\nThis month watch this new children's film about how an older brother learns to accept his unusual new baby brother.\n\nMovie is rated PG and will run for 97 min.\n\nPopcorn and bottled water will be served. Adults must accompany children under 5. Call 643-8346 for the title.
X-ALT-DESC;FMTTYPE=text/html:<p>Come and see our Free Friday Flick! Each month we will be showing a new family friendly movie at the library.</p>\n\n<p>This month watch this new children&rsquo\;s film about how an older brother learns to accept his unusual new baby brother.</p>\n\n<p>Movie is rated PG and will run for 97 min.</p>\n\n<p>Popcorn and bottled water will be served. Adults must accompany children under 5. Call 643-8346 for the title.</p>\n
LOCATION:515 Water Street Sauk City\, WI 53583 (608) 643-8346
UID:e.1184.11768
SEQUENCE:3
DTSTAMP:20260425T014521Z
URL:http://members.saukprairie.com/events/details/free-friday-flick-08-25-2017-11768
END:VEVENT

END:VCALENDAR
