BEGIN:VCALENDAR
VERSION:2.0
PRODID:-//ChamberMaster//Event Calendar 2.0//EN
METHOD:PUBLISH
X-PUBLISHED-TTL:P3D
REFRESH-INTERVAL:P3D
CALSCALE:GREGORIAN
BEGIN:VEVENT
DTSTART:20161119T160000Z
DTEND:20161119T180000Z
X-MICROSOFT-CDO-ALLDAYEVENT:FALSE
SUMMARY:Free Friday Flick
DESCRIPTION:Join us for this sequel where we will learn about the mysterious past of one of our favorite blue fish in the sea.\n\nAll are welcome to this family-friendly movie.Adults must accompany children under 5. Popcorn and bottled water will be served.
X-ALT-DESC;FMTTYPE=text/html:<p>Join us for this sequel where we will learn about the mysterious past of one of our favorite blue fish in the sea.</p>\n\n<p>All are welcome to this family-friendly movie.Adults must accompany children under 5. Popcorn and bottled water will be served.</p>\n
LOCATION:515 Water Street Sauk City\, WI 53583 (608) 643-8346
UID:e.1184.9457
SEQUENCE:3
DTSTAMP:20260425T160822Z
URL:http://members.saukprairie.com/events/details/free-friday-flick-11-19-2016-9457
END:VEVENT

END:VCALENDAR
