BEGIN:VCALENDAR
VERSION:2.0
PRODID:-//ChamberMaster//Event Calendar 2.0//EN
METHOD:PUBLISH
X-PUBLISHED-TTL:P3D
REFRESH-INTERVAL:P3D
CALSCALE:GREGORIAN
BEGIN:VEVENT
DTSTART:20171229T160000Z
DTEND:20171229T180000Z
X-MICROSOFT-CDO-ALLDAYEVENT:FALSE
SUMMARY:Free Friday Flick
DESCRIPTION:Come and see our Free Friday Flick at the library!\n\nThis month we will be showing a new movie! To learn more\, call for the title at 608-643-8346.\n\nPopcorn and bottled water will be served. Adults must accompany children under 7.
X-ALT-DESC;FMTTYPE=text/html:<p>Come and see our Free Friday Flick at the library!</p>\n\n<p>This month we will be showing a new movie! To learn more\, call for the title at 608-643-8346.</p>\n\n<p>Popcorn and bottled water will be served. Adults must accompany children under 7.</p>\n
LOCATION:515 Water Street Sauk City\, WI 53583
UID:e.1184.14529
SEQUENCE:3
DTSTAMP:20260424T192712Z
URL:http://members.saukprairie.com/events/details/free-friday-flick-12-29-2017-14529
END:VEVENT

END:VCALENDAR
