BEGIN:VCALENDAR
VERSION:2.0
PRODID:-//ChamberMaster//Event Calendar 2.0//EN
METHOD:PUBLISH
X-PUBLISHED-TTL:P3D
REFRESH-INTERVAL:P3D
CALSCALE:GREGORIAN
BEGIN:VEVENT
DTSTART:20170224T190000Z
DTEND:20170224T203000Z
X-MICROSOFT-CDO-ALLDAYEVENT:FALSE
SUMMARY:Free Friday Flick
DESCRIPTION:Come and see at our Free Friday Flick! Each month we will be showing a new family friendly movie at the library\n\n\n\nPopcorn and bottled water will be served. Adults must accompany children under 5. Call 643-8346 for the title.
X-ALT-DESC;FMTTYPE=text/html:Come and see at our Free Friday Flick! Each month we will be showing a new family friendly movie at the library<br />\n<br />\nPopcorn and bottled water will be served. Adults must accompany children under 5. Call 643-8346 for the title.
LOCATION:Sauk City Public Library 515 Water St. Sauk City\, WI
UID:e.1184.9393
SEQUENCE:3
DTSTAMP:20260425T110016Z
URL:http://members.saukprairie.com/events/details/free-friday-flick-9393
END:VEVENT

END:VCALENDAR
