BEGIN:VCALENDAR
VERSION:2.0
PRODID:-//ChamberMaster//Event Calendar 2.0//EN
METHOD:PUBLISH
X-PUBLISHED-TTL:P3D
REFRESH-INTERVAL:P3D
CALSCALE:GREGORIAN
BEGIN:VEVENT
DTSTART:20170316T223000Z
DTEND:20170317T000000Z
X-MICROSOFT-CDO-ALLDAYEVENT:FALSE
SUMMARY:Free Homebuyer Seminar
DESCRIPTION:Learn about homebuying and mortgages at our next BMO Harris Homebuyer Seminar.\n\n\n\nJoin us for discussion and refreshments as we explain the following topics:\n\n  First-time homebuyer programs\n\n  Low down payment opportunities\n\n  Choosing the right loan\n\n  Mortgage prequalification\n\n  Credit considerations\n\n  Grant programs that may be available\n\n\n\nDon't wait sign up today!\n\n\n\nFor more information or to RSVP\, contact:\n\nDave Morris\n\nMortgage Banker\n\nDirect: 608-643-1303\n\nMobile: 305-582-3795\n\nDavid.Morris@bmo.com\n\nbmoharris.com/dmorris\n\nNMLS#: 1245490
X-ALT-DESC;FMTTYPE=text/html:Learn about homebuying and mortgages at our next BMO Harris Homebuyer Seminar.<br />\n<br />\nJoin us for discussion and refreshments as we explain the following topics:<br />\n&bull\; First-time homebuyer programs<br />\n&bull\; Low down payment opportunities<br />\n&bull\; Choosing the right loan<br />\n&bull\; Mortgage prequalification<br />\n&bull\; Credit considerations<br />\n&bull\; Grant programs that may be available<br />\n<br />\nDon&rsquo\;t wait&mdash\;sign up today!<br />\n<br />\nFor more information or to RSVP\, contact:<br />\nDave Morris<br />\nMortgage Banker<br />\nDirect: 608-643-1303<br />\nMobile: 305-582-3795<br />\nDavid.Morris@bmo.com<br />\nbmoharris.com/dmorris<br />\nNMLS#: 1245490
LOCATION:615 Water Street Sauk City\, WI
UID:e.1184.9920
SEQUENCE:3
DTSTAMP:20260425T110226Z
URL:http://members.saukprairie.com/events/details/free-homebuyer-seminar-9920
END:VEVENT

END:VCALENDAR
