BEGIN:VCALENDAR
VERSION:2.0
PRODID:-//ChamberMaster//Event Calendar 2.0//EN
METHOD:PUBLISH
X-PUBLISHED-TTL:P3D
REFRESH-INTERVAL:P3D
CALSCALE:GREGORIAN
BEGIN:VEVENT
DTSTART:20231205T230000Z
DTEND:20231206T010000Z
X-MICROSOFT-CDO-ALLDAYEVENT:FALSE
SUMMARY:Free Joint Health Seminar
DESCRIPTION:Don't let hip\, knee\, shoulder\, or ankle pain keep you from being active! Join Sauk Prairie Healthcare's orthopedic surgeons for a Free Joint Health Seminar to learn about:   Arthritis   Joint health & safety   Joint Health Center   Joint replacement surgery options Featuring Orthopedic surgeons:   Dr. Andrew Ertl   Dr. Matthew Hebert   Dr. Michael Lamson   Dr. David Marcu   Dr. John Wollaeger   Dr. Benjamin Cooper Space is limited\, registration required. Register online at: www.saukprairiehealthcare.org/joint-seminar.
X-ALT-DESC;FMTTYPE=text/html:Don&rsquo\;t let hip\, knee\, shoulder\, or ankle pain keep you from being active! Join Sauk Prairie Healthcare&rsquo\;s orthopedic surgeons for a Free Joint Health Seminar to learn about: &bull\; Arthritis &bull\; Joint health &amp\; safety &bull\; Joint Health Center &bull\; Joint replacement surgery options Featuring Orthopedic surgeons: &bull\; Dr. Andrew Ertl &bull\; Dr. Matthew Hebert &bull\; Dr. Michael Lamson &bull\; Dr. David Marcu &bull\; Dr. John Wollaeger &bull\; Dr. Benjamin Cooper Space is limited\, registration required. Register online at: <a href="http://www.saukprairiehealthcare.org/joint-seminar">www.saukprairiehealthcare.org/joint-seminar.</a>
LOCATION:Hilton Garden Inn Middleton 1801 Deming Way\, Middleton\, WI
UID:e.1184.31222
SEQUENCE:3
DTSTAMP:20260420T044928Z
URL:http://members.saukprairie.com/events/details/free-joint-health-seminar-12-05-2023-31222
END:VEVENT

END:VCALENDAR
