BEGIN:VCALENDAR
VERSION:2.0
PRODID:-//ChamberMaster//Event Calendar 2.0//EN
METHOD:PUBLISH
X-PUBLISHED-TTL:P3D
REFRESH-INTERVAL:P3D
CALSCALE:GREGORIAN
BEGIN:VEVENT
DTSTART:20240912T233000Z
DTEND:20240913T010000Z
X-MICROSOFT-CDO-ALLDAYEVENT:FALSE
SUMMARY:Free Lecture: Pollinators of the Dairy Forage Research Center
DESCRIPTION:The Sauk Prairie Conservation Alliance is teaming up with the Badger History Group to highlight the connections between the histories of the former Badger Army Ammunition Plant and the work of both our groups in the present day. Join us in person or on Zoom for a FREE educational talk exploring topics of change\, resilience and community on the Sauk Prairie.\n\n\n\nIn-person venue:\n\nConcordia United Methodist Church\n\n585 5th St\, Prairie du Sac\n\nEnter the church on Galena Street.\n\nAn accessible lift is also available.\n\n\n\nTo sign up for the Zoom option:\n\nVisit BHG's website.
X-ALT-DESC;FMTTYPE=text/html:The Sauk Prairie Conservation Alliance is teaming up with the Badger History Group to highlight the connections between the histories of the former&nbsp\;Badger Army Ammunition Plant&nbsp\;and the work of both our groups in the present day. Join us in person or on Zoom for a FREE&nbsp\;educational talk exploring topics of change\,&nbsp\;resilience and community on the Sauk Prairie.<br />\n<br />\nIn-person venue:<br />\nConcordia United Methodist Church<br />\n585 5th St\, Prairie du Sac<br />\nEnter the church on Galena Street.<br />\nAn accessible lift is also available.<br />\n<br />\nTo sign up for the Zoom option:<br />\n<a href="https://saukprairie.us2.list-manage.com/track/click?u=68b46fdf07ea47d99f8ba8c29&amp\;id=7075b4578f&amp\;e=b2ff4fd12d" target="_blank">Visit BHG&#39\;s website.</a>
LOCATION:Concordia United Methodist Church
UID:e.1184.33016
SEQUENCE:3
DTSTAMP:20260419T164014Z
URL:http://members.saukprairie.com/events/details/free-lecture-pollinators-of-the-dairy-forage-research-center-33016
END:VEVENT

END:VCALENDAR
