BEGIN:VCALENDAR
VERSION:2.0
PRODID:-//ChamberMaster//Event Calendar 2.0//EN
METHOD:PUBLISH
X-PUBLISHED-TTL:P3D
REFRESH-INTERVAL:P3D
CALSCALE:GREGORIAN
BEGIN:VEVENT
DTSTART:20230422T140000Z
DTEND:20230422T170000Z
X-MICROSOFT-CDO-ALLDAYEVENT:FALSE
SUMMARY:Free Medication Take Back Day
DESCRIPTION:Protect our environment and drinking water by getting rid of your old and expired medications at the Free Medication Take Back Day on April 22 from 9:00 am to Noon. Combine all pills (discard/recycle bottles)\, ointments/creams (discard boxes)\, and powders and liquids (keep in original container) in a zip-lock baggie. Place any inhalers\, injectable medications and sharps containers in another bag. Sharps containers will be available upon request.\n\n\n\nSponsored by the Drug Enforcement Administration and the Sauk Prairie Healthcare Foundation.
X-ALT-DESC;FMTTYPE=text/html:Protect our environment and drinking water by getting rid of your old and expired medications at the Free Medication Take Back Day on April 22 from 9:00 am to Noon. Combine all pills (discard/recycle bottles)\, ointments/creams (discard boxes)\, and powders and liquids (keep in original container) in a zip-lock baggie. Place any inhalers\, injectable medications and sharps containers in another bag. Sharps containers will be available upon request.<br />\n<br />\n<em><span style="font-family:calibri\,sans-serif\;"><span style="font-size:11.0pt\;">Sponsored by the Drug Enforcement Administration and the Sauk Prairie Healthcare Foundation.</span></span></em>
LOCATION:Sauk Prairie Police Department 640 13th Street\, Prairie du Sac
UID:e.1184.30675
SEQUENCE:3
DTSTAMP:20260420T143820Z
URL:http://members.saukprairie.com/events/details/free-medication-take-back-day-04-22-2023-30675
END:VEVENT

END:VCALENDAR
