BEGIN:VCALENDAR
VERSION:2.0
PRODID:-//ChamberMaster//Event Calendar 2.0//EN
METHOD:PUBLISH
X-PUBLISHED-TTL:P3D
REFRESH-INTERVAL:P3D
CALSCALE:GREGORIAN
BEGIN:VEVENT
DTSTART:20231028T140000Z
DTEND:20231028T170000Z
X-MICROSOFT-CDO-ALLDAYEVENT:FALSE
SUMMARY:Free Medication Take Back Day
DESCRIPTION:Protect our environment and drinking water by getting rid of old and expired medications at the Free Medication Take Back Day on October 28 from 9am   Noon at the Sauk Prairie Police Department (640 13th Street\, Prairie du Sac). In a Ziploc \, combine all pills (discard or recycle bottles)\, ointments/creams (discard boxes)\, powders\, and liquids (keep in original containers). Place inhalers\, injectable medications\, and sharps containers in another baggie. Put your bags in the box provided. Sharps containers available upon request. Sponsored by the Drug Enforcement Administration and Sauk Prairie Healthcare Foundation. Special thanks to the Sauk City and Prairie du Sac Utilities\, Sauk Prairie Police Department\, and Sauk Prairie Healthcare volunteers.
X-ALT-DESC;FMTTYPE=text/html:Protect our environment and drinking water by getting rid of old and expired medications at the Free Medication Take Back Day on October 28 from 9am &ndash\; Noon at the Sauk Prairie Police Department (640 13th Street\, Prairie du Sac). In a Ziploc&reg\;\, combine all pills (discard or recycle bottles)\, ointments/creams (discard boxes)\, powders\, and liquids (keep in original containers). Place inhalers\, injectable medications\, and sharps containers in another baggie. Put your bags in the box provided. Sharps containers available upon request. Sponsored by the Drug Enforcement Administration and Sauk Prairie Healthcare Foundation. Special thanks to the Sauk City and Prairie du Sac Utilities\, Sauk Prairie Police Department\, and Sauk Prairie Healthcare volunteers.
LOCATION:Sauk Prairie Police Department 640 13th St.\, Prairie du Sac
UID:e.1184.31029
SEQUENCE:3
DTSTAMP:20260420T061844Z
URL:http://members.saukprairie.com/events/details/free-medication-take-back-day-10-28-2023-31029
END:VEVENT

END:VCALENDAR
