BEGIN:VCALENDAR
VERSION:2.0
PRODID:-//ChamberMaster//Event Calendar 2.0//EN
METHOD:PUBLISH
X-PUBLISHED-TTL:P3D
REFRESH-INTERVAL:P3D
CALSCALE:GREGORIAN
BEGIN:VEVENT
DTSTART:20190427T140000Z
DTEND:20190427T170000Z
X-MICROSOFT-CDO-ALLDAYEVENT:FALSE
SUMMARY:Free Medication Take Back Day
DESCRIPTION:Unused prescription medication can often find its way to being misused or abused\, or if thrown away\, ending up in our ground water. Let Sauk Prairie Healthcare help you safely dispose of your old unused medication on Medication Take Back Day. Just combine any unneeded vitamins\, herbals\, prescription or over-the-counter medications into a zip-lock baggie and drop them off for safe disposal. It's that easy! Please keep liquids in their original container. Sharps containers will be available upon request for used needles/lancets. Sponsored by the US Drug Enforcement Administration and Sauk Prairie Healthcare Foundation as part of its From the Heart series.
X-ALT-DESC;FMTTYPE=text/html:Unused prescription medication can often find its way to being misused or abused\, or if thrown away\, ending up in our ground water. Let Sauk Prairie Healthcare help you safely dispose of your old unused medication on Medication Take Back Day. Just combine any unneeded vitamins\, herbals\, prescription or over-the-counter medications into a zip-lock baggie and drop them off for safe disposal. It&rsquo\;s that easy! Please keep liquids in their original container. Sharps containers will be available upon request for used needles/lancets. Sponsored by the US Drug Enforcement Administration and Sauk Prairie Healthcare Foundation as part of its From the Heart series.
LOCATION:Sauk Prairie Hospital 260 26th St. Prairie du Sac\, Wi
UID:e.1184.22097
SEQUENCE:3
DTSTAMP:20260423T184057Z
URL:http://members.saukprairie.com/events/details/free-medication-take-back-day-22097
END:VEVENT

END:VCALENDAR
