BEGIN:VCALENDAR
VERSION:2.0
PRODID:-//ChamberMaster//Event Calendar 2.0//EN
METHOD:PUBLISH
X-PUBLISHED-TTL:P3D
REFRESH-INTERVAL:P3D
CALSCALE:GREGORIAN
BEGIN:VEVENT
DTSTART:20240427T140000Z
DTEND:20240427T170000Z
X-MICROSOFT-CDO-ALLDAYEVENT:FALSE
SUMMARY:Free Medication Take Back Day
DESCRIPTION:Protect our environment and drinking water by getting rid of old and expired medications at the Free Medication Take Back Day on Saturday\, April 27th from 9am   Noon at the Sauk Prairie Police Department (640 13th Street\, Prairie du Sac).\n\n	In a Ziploc \, combine all pills (discard or recycle bottles)\, ointments/creams (discard boxes)\, powders\, and liquids (keep in original containers).\n	In another bag\, place inhalers\, injectable medications\, and sharps containers..\n	Put your baggies in the box provided.\n	Sharps containers available upon request.\n\n\n\nSponsored by the Drug Enforcement Administration and Sauk Prairie Healthcare Foundation. Special thanks to the Sauk City and Prairie du Sac Utilities\, Sauk Prairie Police Department\, and Sauk Prairie Healthcare volunteers.
X-ALT-DESC;FMTTYPE=text/html:Protect our environment and drinking water by getting rid of old and expired medications at the Free Medication Take Back Day on Saturday\, April 27th from 9am &ndash\; Noon at the Sauk Prairie Police Department (640 13th Street\, Prairie du Sac).\n<ol>\n	<li>In a Ziploc&reg\;\, combine all pills (discard or recycle bottles)\, ointments/creams (discard boxes)\, powders\, and liquids (keep in original containers).</li>\n	<li>In another bag\, place inhalers\, injectable medications\, and sharps containers..</li>\n	<li>Put your baggies in the box provided.</li>\n	<li>Sharps containers available upon request.</li>\n</ol>\n<br />\nSponsored by the Drug Enforcement Administration and Sauk Prairie Healthcare Foundation. Special thanks to the Sauk City and Prairie du Sac Utilities\, Sauk Prairie Police Department\, and Sauk Prairie Healthcare volunteers.
LOCATION:Sauk Prairie Police Department 640 13th St.\, Prairie du Sac
UID:e.1184.32064
SEQUENCE:3
DTSTAMP:20260419T220919Z
URL:http://members.saukprairie.com/events/details/free-medication-take-back-day-32064
END:VEVENT

END:VCALENDAR
