BEGIN:VCALENDAR
VERSION:2.0
PRODID:-//ChamberMaster//Event Calendar 2.0//EN
METHOD:PUBLISH
X-PUBLISHED-TTL:P3D
REFRESH-INTERVAL:P3D
CALSCALE:GREGORIAN
BEGIN:VEVENT
DTSTART:20171202T170000Z
DTEND:20171202T210000Z
X-MICROSOFT-CDO-ALLDAYEVENT:FALSE
SUMMARY:Free Movie at Bonham
DESCRIPTION:Free Holiday Movie with Food Pantry Donation.    \n\n \nSAT NOV 25 Home Alone\n\nSUN NOV 26 The Santa Clause (Tim Allen)\n\nSAT DEC 02 The Muppets Christmas Carol\n\nSUN DEC 03 The Legend of Frosty the Snowman Movie (1hr 15 min)\n\nSAT DEC 09 How the Grinch Stole Christmas
X-ALT-DESC;FMTTYPE=text/html:Free Holiday Movie with Food Pantry Donation.&nbsp\;&nbsp\;&nbsp\;&nbsp\;<br />\n&nbsp\;\n<p style="margin: 0in 0in 0.0001pt\; background-image: initial\; background-position: initial\; background-size: initial\; background-repeat: initial\; background-attachment: initial\; background-origin: initial\; background-clip: initial\;"><span style="font-size:14.0pt\;font-family:&quot\;Arial&quot\;\,sans-serif\;color:red">SAT NOV 25 </span><b><span style="font-size:14.0pt\;font-family:&quot\;Arial&quot\;\,sans-serif\;color:black">Home Alone</span></b><span style="font-family:&quot\;Helvetica&quot\;\,sans-serif"><o:p></o:p></span></p>\n\n<p style="margin: 0in 0in 0.0001pt\; background-image: initial\; background-position: initial\; background-repeat: initial\; background-origin: initial\; background-clip: initial\; background-size: auto\; background-attachment: scroll\;"><span style="font-size:14.0pt\;font-family:&quot\;Arial&quot\;\,sans-serif\;\ncolor:red">SUN NOV 26 </span><b><span style="font-size:14.0pt\;font-family:&quot\;Arial&quot\;\,sans-serif\;\ncolor:black">The Santa Clause (Tim Allen)</span></b><span style="font-family:\n&quot\;Helvetica&quot\;\,sans-serif"><o:p></o:p></span></p>\n\n<p style="margin: 0in 0in 0.0001pt\; background-image: initial\; background-position: initial\; background-repeat: initial\; background-origin: initial\; background-clip: initial\; background-size: auto\; background-attachment: scroll\;"><span style="font-size:14.0pt\;font-family:&quot\;Arial&quot\;\,sans-serif\;\ncolor:red">SAT DEC 02 </span><b><span style="font-size:14.0pt\;font-family:&quot\;Arial&quot\;\,sans-serif\;\ncolor:black">The Muppets Christmas Carol</span></b><span style="font-family:\n&quot\;Helvetica&quot\;\,sans-serif"><o:p></o:p></span></p>\n\n<p style="margin: 0in 0in 0.0001pt\; background-image: initial\; background-position: initial\; background-repeat: initial\; background-origin: initial\; background-clip: initial\; background-size: auto\; background-attachment: scroll\;"><span style="font-size:14.0pt\;font-family:&quot\;Arial&quot\;\,sans-serif\;\ncolor:red">SUN DEC 03 </span><b><span style="font-size:14.0pt\;font-family:&quot\;Arial&quot\;\,sans-serif\;\ncolor:black">The Legend of Frosty the Snowman Movie (1hr 15 min)</span></b><span style="font-family:&quot\;Helvetica&quot\;\,sans-serif"><o:p></o:p></span></p>\n\n<p style="margin: 0in 0in 0.0001pt\; background-image: initial\; background-position: initial\; background-repeat: initial\; background-origin: initial\; background-clip: initial\; background-size: auto\; background-attachment: scroll\;"><span style="font-size:14.0pt\;font-family:&quot\;Arial&quot\;\,sans-serif\;\ncolor:red">SAT DEC 09 </span><b><span style="font-size:14.0pt\;font-family:&quot\;Arial&quot\;\,sans-serif\;\ncolor:black">How the Grinch Stole Christmas</span></b><span style="font-family:\n&quot\;Helvetica&quot\;\,sans-serif"><o:p></o:p></span></p>\n
LOCATION:Bonham Theatre 564 Water Street Prairie du Sac\, WI 53578
UID:e.1184.14030
SEQUENCE:3
DTSTAMP:20260424T193240Z
URL:http://members.saukprairie.com/events/details/free-movie-at-bonham-12-02-2017-14030
END:VEVENT

END:VCALENDAR
