BEGIN:VCALENDAR
VERSION:2.0
PRODID:-//ChamberMaster//Event Calendar 2.0//EN
METHOD:PUBLISH
X-PUBLISHED-TTL:P3D
REFRESH-INTERVAL:P3D
CALSCALE:GREGORIAN
BEGIN:VEVENT
DTSTART:20181116T233000Z
DTEND:20181117T000000Z
X-MICROSOFT-CDO-ALLDAYEVENT:FALSE
SUMMARY:FREE Movie Nights at the Community Center
DESCRIPTION:FREE Movie Nights at the Community Center.  Doors Open at 5:30 and movie begins at 6:00 p.m.  All ages are welcome to enjoy a FREE family friendly movie with family and friends.  Movies will be shown on a 12 Foot Screen!!!  Bring your own blankets or bean bags.  Concessions will be for sale!!  \n\n\n\nFriday\, November 16th......Cars 3\n\nFriday\, December 14th.......Polar Express\n\nFriday\, January 18th..........Incredibles 2
X-ALT-DESC;FMTTYPE=text/html:<span style="color:#FF0000">FREE Movie Nights at the Community Center.</span>&nbsp\; Doors Open at 5:30 and movie begins at 6:00 p.m.&nbsp\; All ages are welcome to enjoy a FREE family friendly movie with family and friends.&nbsp\;<span style="color:#FF0000"> Movies will be shown on a 12 Foot Screen!!!&nbsp\; </span>Bring your own blankets or bean bags.&nbsp\; Concessions will be for sale!!&nbsp\;&nbsp\;<br />\n<br />\n<span style="color:#FF0000"><strong>Friday\, November 16th......Cars 3</strong></span><br />\n<span style="color:#0000FF">Friday\, December 14th.......Polar Express</span><br />\n<span style="color:#FF0000"><strong>Friday\, January 18th..........Incredibles 2</strong></span>
LOCATION:Community Center\, 730 Monroe St.\, Sauk City\, WI 53583
UID:e.1184.20943
SEQUENCE:3
DTSTAMP:20260424T022506Z
URL:http://members.saukprairie.com/events/details/free-movie-nights-at-the-community-center-20943
END:VEVENT

END:VCALENDAR
