BEGIN:VCALENDAR
VERSION:2.0
PRODID:-//ChamberMaster//Event Calendar 2.0//EN
METHOD:PUBLISH
X-PUBLISHED-TTL:P3D
REFRESH-INTERVAL:P3D
CALSCALE:GREGORIAN
BEGIN:VEVENT
DTSTART:20180509T134500Z
DTEND:20180509T163000Z
X-MICROSOFT-CDO-ALLDAYEVENT:FALSE
SUMMARY:FREE Senior Morning Movie - The Greatest Showman
DESCRIPTION:Senior Morning Movie at the River Arts Center Theatre big screen!  FREE to those older than 55.  Great morning snacks and coffee offered from 8:45 am - 9:30.  Movie Starts at 9:30.  May's movie is the Greatest Showman!  RSVP by calling the Community Center at 608-643-8386.  Movie is offered monthly Sept. - May.....next showing is September 12!
X-ALT-DESC;FMTTYPE=text/html:<span style="font-family:comic sans ms"><big><span style="font-size:14px">Senior Morning Movie at the River Arts Center Theatre big screen!&nbsp\; FREE to those older than 55.&nbsp\; Great morning snacks and coffee offered from 8:45 am - 9:30.&nbsp\; Movie Starts at 9:30.&nbsp\; May&#39\;s movie is the Greatest Showman!&nbsp\; RSVP by calling the Community Center at 608-643-8386.&nbsp\;</span>&nbsp\;<span style="font-size:14px">Movie is offered monthly Sept. - May.....next showing is September 12!</span></big></span>
LOCATION:River Arts Center\, Prairie du Sac\, WI
UID:e.1184.18069
SEQUENCE:3
DTSTAMP:20260424T112558Z
URL:http://members.saukprairie.com/events/details/free-senior-morning-movie-the-greatest-showman-18069
END:VEVENT

END:VCALENDAR
