BEGIN:VCALENDAR
VERSION:2.0
PRODID:-//ChamberMaster//Event Calendar 2.0//EN
METHOD:PUBLISH
X-PUBLISHED-TTL:P3D
REFRESH-INTERVAL:P3D
CALSCALE:GREGORIAN
BEGIN:VEVENT
DTSTART:20171214T230000Z
DTEND:20171215T011500Z
X-MICROSOFT-CDO-ALLDAYEVENT:FALSE
SUMMARY:Free showing of Star Wars: The Force Awakens
DESCRIPTION:Free admission with a paid ticket for the premiere of The Last Jedi.  Free admission with food pantry donation as space permits.
X-ALT-DESC;FMTTYPE=text/html:<span style="font-size:12px"><span style="font-family:arial\,helvetica\,sans-serif"><strong>Free admission with a paid ticket for the premiere of The Last Jedi.&nbsp\;</strong> Free admission with&nbsp\;food pantry donation as space permits.</span></span>
LOCATION:
UID:e.1184.14540
SEQUENCE:3
DTSTAMP:20260424T193247Z
URL:http://members.saukprairie.com/events/details/free-showing-of-star-wars-the-force-awakens-14540
END:VEVENT

END:VCALENDAR
