BEGIN:VCALENDAR
VERSION:2.0
PRODID:-//ChamberMaster//Event Calendar 2.0//EN
METHOD:PUBLISH
X-PUBLISHED-TTL:P3D
REFRESH-INTERVAL:P3D
CALSCALE:GREGORIAN
BEGIN:VEVENT
DTSTART:20160615T200000Z
DTEND:20160616T000000Z
X-MICROSOFT-CDO-ALLDAYEVENT:FALSE
SUMMARY:FREE WALK-IN STD CLINIC
DESCRIPTION:FREE confidential STD Testing done on a walk-in basis. EVERYONE IS WELCOME! Most STDs are curable\, ALL are treatable. GET YOURSELF TESTED TODAY! If June 15 doesn't work for you\, please call Family Planning for an appointment at 800-246-5743. Remember\, you are always welcome at Family Planning!
X-ALT-DESC;FMTTYPE=text/html:FREE confidential STD Testing done on a walk-in basis. EVERYONE IS WELCOME! Most STDs are curable\, ALL are treatable. GET YOURSELF TESTED TODAY! If June 15 doesn&#39\;t work for you\, please call Family Planning for an appointment at 800-246-5743. Remember\, you are always welcome at Family Planning!
LOCATION:FAMILY PLANNING HEALTH SERVICES\, INC. 1425 WISCNSIN DELLS PARKWAY\, STE.7 WISCONSIN DELLS\, WI 53965
UID:e.1184.8597
SEQUENCE:3
DTSTAMP:20260426T003715Z
URL:http://members.saukprairie.com/events/details/free-walk-in-std-clinic-06-15-2016-8597
END:VEVENT

END:VCALENDAR
