BEGIN:VCALENDAR
VERSION:2.0
PRODID:-//ChamberMaster//Event Calendar 2.0//EN
METHOD:PUBLISH
X-PUBLISHED-TTL:P3D
REFRESH-INTERVAL:P3D
CALSCALE:GREGORIAN
BEGIN:VEVENT
DTSTART;VALUE=DATE:20240214
DTEND;VALUE=DATE:20240215
TRANSP:TRANSPARENT
X-MICROSOFT-CDO-ALLDAYEVENT:TRUE
SUMMARY:Free Yoga
DESCRIPTION:Free Yoga at Ruth Culver Community Library in Prairie du Sac\n\nWednesday\, February 14th\, 2024 at 10:30am\n\n\n\nStretch\, breathe\, repeat.\n\nInstructor Brittney Ricks of Peak Yoga Wellness will lead a free monthly yoga session in the library community room. Please bring a mat and/or towel.
X-ALT-DESC;FMTTYPE=text/html:<div class="xdj266r x11i5rnm xat24cr x1mh8g0r x1vvkbs" color:="" font-size:="" segoe="" style="margin: 0px\; overflow-wrap: break-word\; font-family: " ui="">Free Yoga at Ruth Culver Community Library in Prairie du Sac<br />\nWednesday\, February 14th\, 2024 at 10:30am<br />\n<br />\nStretch\, breathe\, repeat.</div>\n\n<div class="x11i5rnm xat24cr x1mh8g0r x1vvkbs xtlvy1s" color:="" font-size:="" segoe="" style="margin: 0.5em 0px 0px\; overflow-wrap: break-word\; font-family: " ui="">Instructor Brittney Ricks of Peak Yoga Wellness will lead a free monthly yoga session in the library community room. Please bring a mat and/or towel.</div>\n
LOCATION:Ruth Culver Community Library
UID:e.1184.31556
SEQUENCE:3
DTSTAMP:20260420T003445Z
URL:http://members.saukprairie.com/events/details/free-yoga-31556
END:VEVENT

END:VCALENDAR
