BEGIN:VCALENDAR
VERSION:2.0
PRODID:-//ChamberMaster//Event Calendar 2.0//EN
METHOD:PUBLISH
X-PUBLISHED-TTL:P3D
REFRESH-INTERVAL:P3D
CALSCALE:GREGORIAN
BEGIN:VEVENT
DTSTART:20200307T140000Z
DTEND:20200307T180000Z
X-MICROSOFT-CDO-ALLDAYEVENT:FALSE
SUMMARY:Freezer 101 Cooking Class
DESCRIPTION:Learn some simple and easy to use cooking tips and tricks to help make meal times stress-free\, delicious\, & healthy. This is a hands on class. The food and supplies will be provided and you will get to work on each step in the process and take home your creations at the end of the class. \n\n\n\nIntended for 1st time registrants.  If you have taken a Freezer 101 Class with L4L in the past\, please look for our Freezer 201 Class to allow others to attend this 101 class.
X-ALT-DESC;FMTTYPE=text/html:<div><span style="font-size:small">Learn some simple and easy to use cooking tips and tricks to help make meal times stress-free\, delicious\, &amp\; healthy. This is a hands on class. The food and supplies will be provided and you will get to work on each step in the process and take home your creations at the end of the class.&nbsp\;</span></div>\n\n<div><br />\n<em><span style="font-size:small">Intended for 1st time registrants.&nbsp\; If you have taken a Freezer 101 Class with L4L in the past\, please look for our Freezer 201 Class to allow others to attend this 101 class.</span></em>\n\n<div>\n<div style="margin-left:auto\; text-align:right">&nbsp\;</div>\n</div>\n\n<div>&nbsp\;</div>\n</div>\n
LOCATION:6:8 821 Industry Rd\, Sauk City\, WI 53583
UID:e.1184.23980
SEQUENCE:3
DTSTAMP:20260423T025037Z
URL:http://members.saukprairie.com/events/details/freezer-101-cooking-class-23980
END:VEVENT

END:VCALENDAR
