BEGIN:VCALENDAR
VERSION:2.0
PRODID:-//ChamberMaster//Event Calendar 2.0//EN
METHOD:PUBLISH
X-PUBLISHED-TTL:P3D
REFRESH-INTERVAL:P3D
CALSCALE:GREGORIAN
BEGIN:VEVENT
DTSTART:20170715T150000Z
DTEND:20170715T180000Z
X-MICROSOFT-CDO-ALLDAYEVENT:FALSE
SUMMARY:Friends of Faith McFarnival
DESCRIPTION:Find great savings\, and learn more about the churches in our community. Each group will have a table with food\, games\, and more! We will also be recycling electronics until noon\, and offering discounted bike tune-ups at our now repair shop. Don't miss out of the fun\, great people\, and huge savings!
X-ALT-DESC;FMTTYPE=text/html:<span style="color: rgb(75\, 79\, 86)\; font-family: Helvetica\, Arial\, sans-serif\; font-size: 14px\;">Find great savings\, and learn more about the churches in our community. Each group will have a table with food\, games\, and more! We will also be recycling electronics until noon\, and offering discounted bike tune-ups at our now repair shop. Don&#39\;t miss out of the fun\, great people\, and huge savings!</span>
LOCATION:McFarlanes' Retail Center 780 Carolina Street\, Sauk City
UID:e.1184.11837
SEQUENCE:3
DTSTAMP:20260425T033939Z
URL:http://members.saukprairie.com/events/details/friends-of-faith-mcfarnival-11837
END:VEVENT

END:VCALENDAR
