BEGIN:VCALENDAR
VERSION:2.0
PRODID:-//ChamberMaster//Event Calendar 2.0//EN
METHOD:PUBLISH
X-PUBLISHED-TTL:P3D
REFRESH-INTERVAL:P3D
CALSCALE:GREGORIAN
BEGIN:VEVENT
DTSTART;VALUE=DATE:20220907
DTEND;VALUE=DATE:20220908
TRANSP:TRANSPARENT
X-MICROSOFT-CDO-ALLDAYEVENT:TRUE
SUMMARY:Friends of Ruth Culver Community Library 13th Annual Dinner & Golf Outing
DESCRIPTION:Proceeds benefit the Ruth Culver Community Library!\n\n\n\nThere is an opportunity to win a $2\,500 Putting Challenge! All registered amateur golfers can enter the challenge for free. Two names will be drawn to putt.\n\n\n\nSchedule of events:\n\nNoon-12:45pm registration\n\n1:00pm shotgun start for scramble\n\n6:15pm Dinner\, prize presentation and silent auction\n\n\n\nParticipation and sponsorship costs:\n\nGolf and dinner: $100/person\n\n	scramble format\, includes 18 holes\, golf cart\, and dinner\n\nNot a golfer? Join us for dinner only: $30/person\n\nHole sponsorship: starting at $100\n\nSilent auction and 50/50 raffle: during the event\n\n\n\nReturn registration and payment by August 26th to: Friends of the Ruth Culver Community Library\, 540 Water St\, Prairie du Sac\, WI 53578
X-ALT-DESC;FMTTYPE=text/html:Proceeds benefit the Ruth Culver Community Library!<br />\n<br />\nThere is an opportunity to win a $2\,500 Putting Challenge! All registered amateur golfers can enter the challenge for free. Two names will be drawn to putt.<br />\n<br />\nSchedule of events:<br />\nNoon-12:45pm registration<br />\n1:00pm shotgun start for scramble<br />\n6:15pm Dinner\, prize presentation and silent auction<br />\n<br />\nParticipation and sponsorship costs:<br />\nGolf and dinner: $100/person\n<ul>\n	<li>scramble format\, includes 18 holes\, golf cart\, and dinner</li>\n</ul>\nNot a golfer? Join us for dinner only: $30/person<br />\nHole sponsorship: starting at $100<br />\nSilent auction and 50/50 raffle: during the event<br />\n<br />\nReturn registration and payment by August 26th to: Friends of the Ruth Culver Community Library\, 540 Water St\, Prairie du Sac\, WI 53578<br />\n<br />\n<br />\n&nbsp\;
LOCATION:Lake Wisconsin Country Club: N1076 Golf Rd\, Prairie du Sac
UID:e.1184.28245
SEQUENCE:3
DTSTAMP:20260421T061612Z
URL:http://members.saukprairie.com/events/details/friends-of-ruth-culver-community-library-13th-annual-dinner-golf-outing-28245
END:VEVENT

END:VCALENDAR
