BEGIN:VCALENDAR
VERSION:2.0
PRODID:-//ChamberMaster//Event Calendar 2.0//EN
METHOD:PUBLISH
X-PUBLISHED-TTL:P3D
REFRESH-INTERVAL:P3D
CALSCALE:GREGORIAN
BEGIN:VEVENT
DTSTART:20240213T150000Z
DTEND:20240213T220000Z
X-MICROSOFT-CDO-ALLDAYEVENT:FALSE
SUMMARY:Friends of Sauk Prairie Healthcare Chocolate Sale Featuring Paul's Chocolates
DESCRIPTION:Just in time for Valentine's Day! Paul's Chocolates will be in the Sauk Prairie Hospital lobby on February 13\, 2024 from 9:00 am to 4:00 pm. A portion of the proceeds will benefit the Friends of Sauk Prairie Healthcare to support special hospital and clinic needs. Can't make it in-person? Order online at www.paulschocolates.com until Monday\, February 12\, 2024. Be sure to include "SPH" after your name to support the Friends. Paul will arrange delivery. Paul's Chocolates are produced locally and contain no preservatives.
X-ALT-DESC;FMTTYPE=text/html:Just in time for Valentine&rsquo\;s Day! Paul&rsquo\;s Chocolates will be in the Sauk Prairie Hospital lobby on February 13\, 2024 from 9:00 am to 4:00 pm. A portion of the proceeds will benefit the Friends of Sauk Prairie Healthcare to support special hospital and clinic needs. Can&rsquo\;t make it in-person? Order online at www.paulschocolates.com until Monday\, February 12\, 2024. Be sure to include &ldquo\;SPH&rdquo\; after your name to support the Friends. Paul will arrange delivery. Paul&rsquo\;s Chocolates are produced locally and contain no preservatives.
LOCATION:Sauk Prairie Hospital Lobby 260 26th St.\, Prairie du Sac
UID:e.1184.31472
SEQUENCE:3
DTSTAMP:20260420T004027Z
URL:http://members.saukprairie.com/events/details/friends-of-sauk-prairie-healthcare-chocolate-sale-featuring-paul-s-chocolates-02-13-2024-31472
END:VEVENT

END:VCALENDAR
