BEGIN:VCALENDAR
VERSION:2.0
PRODID:-//ChamberMaster//Event Calendar 2.0//EN
METHOD:PUBLISH
X-PUBLISHED-TTL:P3D
REFRESH-INTERVAL:P3D
CALSCALE:GREGORIAN
BEGIN:VEVENT
DTSTART:20231214T150000Z
DTEND:20231214T220000Z
X-MICROSOFT-CDO-ALLDAYEVENT:FALSE
SUMMARY:Friends of Sauk Prairie Healthcare Chocolate Sale Featuring Paul's Chocolates
DESCRIPTION:Just in time for the holidays! The Friends of Sauk Prairie Healthcare are hosting a chocolate sale featuring Paul's Chocolates in the Sauk Prairie Hospital lobby (260 26th St.\, Prairie du Sac) on Thursday\, December 14 from 9:00 am to 4:00 pm. A portion of the proceeds will benefit the Friends to support special hospital and clinic needs. Paul's Chocolates are produced locally\, contain no preservatives\, and make an excellent holiday gift! Can't make it in-person? Order online at www.paulschocolates.com between December 1   December 13\, 2023. Be sure to include "SPH" after your name to benefit the Friends. Paul will arrange delivery.
X-ALT-DESC;FMTTYPE=text/html:Just in time for the holidays! The Friends of Sauk Prairie Healthcare are hosting a chocolate sale featuring Paul&rsquo\;s Chocolates in the Sauk Prairie Hospital lobby (260 26th St.\, Prairie du Sac) on Thursday\, December 14 from 9:00 am to 4:00 pm. A portion of the proceeds will benefit the Friends to support special hospital and clinic needs. Paul&rsquo\;s Chocolates are produced locally\, contain no preservatives\, and make an excellent holiday gift! Can&rsquo\;t make it in-person? Order online at www.paulschocolates.com between December 1 &ndash\; December 13\, 2023. Be sure to include &ldquo\;SPH&rdquo\; after your name to benefit the Friends. Paul will arrange delivery.
LOCATION:Sauk Prairie Hospital Lobby 260 26th St.\, Prairie du Sac
UID:e.1184.31363
SEQUENCE:3
DTSTAMP:20260420T045250Z
URL:http://members.saukprairie.com/events/details/friends-of-sauk-prairie-healthcare-chocolate-sale-featuring-paul-s-chocolates-31363
END:VEVENT

END:VCALENDAR
