BEGIN:VCALENDAR
VERSION:2.0
PRODID:-//ChamberMaster//Event Calendar 2.0//EN
METHOD:PUBLISH
X-PUBLISHED-TTL:P3D
REFRESH-INTERVAL:P3D
CALSCALE:GREGORIAN
BEGIN:VEVENT
DTSTART:20160424T000000Z
DTEND:20160424T030000Z
X-MICROSOFT-CDO-ALLDAYEVENT:FALSE
SUMMARY:Friends of the Baraboo Zoo Piano Fondue/Dueling Pionos
DESCRIPTION:Piano Fondue/Dueling Pianos\n\n\n\nIncludes show and hors d'oeuvres buffet\n\n\n\nTickets available at the Farm Kitchen\, corner Drug Store and Baraboo National Bank (Main downtown branch)\n\n\n\nAll proceeds go to the proposed River Otter Display at the Ochsner Zoo
X-ALT-DESC;FMTTYPE=text/html:Piano Fondue/Dueling Pianos<br />\n<br />\nIncludes show and hors d&#39\;oeuvres buffet<br />\n<br />\nTickets available at the Farm Kitchen\, corner Drug Store and Baraboo National Bank (Main downtown branch)<br />\n<br />\nAll proceeds go to the proposed River Otter Display at the Ochsner&nbsp\;Zoo&nbsp\;&nbsp\;&nbsp\;&nbsp\;
LOCATION:The Farm Kitchen S5718 State Road 123 Baraboo\, WI 53913
UID:e.1184.8447
SEQUENCE:3
DTSTAMP:20260426T033834Z
URL:http://members.saukprairie.com/events/details/friends-of-the-baraboo-zoo-piano-fondue-dueling-pionos-04-23-2016-8447
END:VEVENT

END:VCALENDAR
