BEGIN:VCALENDAR
VERSION:2.0
PRODID:-//ChamberMaster//Event Calendar 2.0//EN
METHOD:PUBLISH
X-PUBLISHED-TTL:P3D
REFRESH-INTERVAL:P3D
CALSCALE:GREGORIAN
BEGIN:VEVENT
DTSTART:20191214T160000Z
DTEND:20191214T190000Z
X-MICROSOFT-CDO-ALLDAYEVENT:FALSE
SUMMARY:Friends of the Library Gift Wrapping
DESCRIPTION:Help support the library this holiday season. Bring in your gifts and get them wrapped for a freewill donation to the Friends of the Sauk City Public Library! Part of the Chamber's Holly Jolly Sauk Prairie.
X-ALT-DESC;FMTTYPE=text/html:Help support the library this holiday season. Bring in your gifts and get them wrapped for a freewill donation to the Friends of the Sauk City Public Library! Part of the Chamber&rsquo\;s Holly Jolly Sauk Prairie.
LOCATION:515 Water Street Sauk City\, WI 53583
UID:e.1184.23718
SEQUENCE:3
DTSTAMP:20260423T070606Z
URL:http://members.saukprairie.com/events/details/friends-of-the-library-gift-wrapping-23718
END:VEVENT

END:VCALENDAR
