BEGIN:VCALENDAR
VERSION:2.0
PRODID:-//ChamberMaster//Event Calendar 2.0//EN
METHOD:PUBLISH
X-PUBLISHED-TTL:P3D
REFRESH-INTERVAL:P3D
CALSCALE:GREGORIAN
BEGIN:VEVENT
DTSTART:20230208T210000Z
DTEND:20230208T220000Z
X-MICROSOFT-CDO-ALLDAYEVENT:FALSE
SUMMARY:Friends of the Library Open House
DESCRIPTION:Love your library? Want to help us thrive and grow? Contribute your energy and ideas by joining our Friends group. Learn more at our Open House\, where you can meet current members and enjoy light refreshments.
X-ALT-DESC;FMTTYPE=text/html:Love your library? Want to help us thrive and grow? Contribute your energy and ideas by joining our Friends group. Learn more at our Open House\, where you can meet current members and enjoy light refreshments.
LOCATION:615 Phillips Blvd. Sauk City\, WI 53583
UID:e.1184.29887
SEQUENCE:3
DTSTAMP:20260420T180651Z
URL:http://members.saukprairie.com/events/details/friends-of-the-library-open-house-29887
END:VEVENT

END:VCALENDAR
