BEGIN:VCALENDAR
VERSION:2.0
PRODID:-//ChamberMaster//Event Calendar 2.0//EN
METHOD:PUBLISH
X-PUBLISHED-TTL:P3D
REFRESH-INTERVAL:P3D
CALSCALE:GREGORIAN
BEGIN:VEVENT
DTSTART:20160519T140000Z
DTEND:20160520T010000Z
X-MICROSOFT-CDO-ALLDAYEVENT:FALSE
SUMMARY:Friends of the Library Rummage Sale
DESCRIPTION:The spring Friends of the Library Rummage sale will be held May 19 and 20 during library operating hours.  Help out the library by either donating items or buying something at the sale!\n\nDonations accepted May 5-18. No clothing\, please.
X-ALT-DESC;FMTTYPE=text/html:<div>\n<p>The spring Friends of the Library Rummage sale will be held May 19 and 20 during library operating hours.&nbsp\; Help out the library by either donating items or buying something at the sale!</p>\n\n<p><strong>Donations accepted May 5-18. No clothing\, please.</strong></p>\n</div>\n
LOCATION:Sauk City Library 515 Water St. Sauk City\, WI
UID:e.1184.8459
SEQUENCE:3
DTSTAMP:20260426T020452Z
URL:http://members.saukprairie.com/events/details/friends-of-the-library-rummage-sale-05-19-2016-8459
END:VEVENT

END:VCALENDAR
