BEGIN:VCALENDAR
VERSION:2.0
PRODID:-//ChamberMaster//Event Calendar 2.0//EN
METHOD:PUBLISH
X-PUBLISHED-TTL:P3D
REFRESH-INTERVAL:P3D
CALSCALE:GREGORIAN
BEGIN:VEVENT
DTSTART:20171201T150000Z
DTEND:20171201T233000Z
X-MICROSOFT-CDO-ALLDAYEVENT:FALSE
SUMMARY:Friends of the Library Rummage Sale
DESCRIPTION:The annual Friends of the Library Rummage sale will be held December 1st - 2nd during library operating hours.  Help out the library by either donating items or buying something at the sale!\n\nWe will begin taking donations of items for the sale all November. We will not be accepting large furniture or clothing.
X-ALT-DESC;FMTTYPE=text/html:<div>\n<p>The annual Friends of the Library Rummage sale will be held December 1st - 2nd during library operating hours.&nbsp\; Help out the library by either donating items or buying something at the sale!</p>\n\n<p><strong>We will begin taking donations of items for the sale all November. We will not be accepting large furniture&nbsp\;or clothing.</strong></p>\n</div>\n
LOCATION:Sauk City Library 515 Water St. Sauk City\, WI
UID:e.1184.4806
SEQUENCE:3
DTSTAMP:20260424T205751Z
URL:http://members.saukprairie.com/events/details/friends-of-the-library-rummage-sale-12-03-2015-4806
END:VEVENT

END:VCALENDAR
