BEGIN:VCALENDAR
VERSION:2.0
PRODID:-//ChamberMaster//Event Calendar 2.0//EN
METHOD:PUBLISH
X-PUBLISHED-TTL:P3D
REFRESH-INTERVAL:P3D
CALSCALE:GREGORIAN
BEGIN:VEVENT
DTSTART:20161203T150000Z
DTEND:20161203T200000Z
X-MICROSOFT-CDO-ALLDAYEVENT:FALSE
SUMMARY:Friends of the Library Rummage Sale
DESCRIPTION:It's time for our Annual Rummage Sale!\n\nWe will be accepting donations for the sale beginning November 1st.\n\nThe sale will occur on our lover level during our regular hours of operation and is by donation.\n\nKeep an eye on our website and Facebook page for additional details.
X-ALT-DESC;FMTTYPE=text/html:<p>It&rsquo\;s time for our Annual Rummage Sale!</p>\n\n<p>We will be accepting donations for the sale beginning November 1st.</p>\n\n<p>The sale will occur on our lover level during our regular hours of operation and is by donation.</p>\n\n<p>Keep an eye on our website and Facebook page for additional details.</p>\n
LOCATION:515 Water Street Sauk City\, WI 53583 (608) 643-8346
UID:e.1184.9467
SEQUENCE:3
DTSTAMP:20260425T142402Z
URL:http://members.saukprairie.com/events/details/friends-of-the-library-rummage-sale-12-03-2016-9467
END:VEVENT

END:VCALENDAR
