BEGIN:VCALENDAR
VERSION:2.0
PRODID:-//ChamberMaster//Event Calendar 2.0//EN
METHOD:PUBLISH
X-PUBLISHED-TTL:P3D
REFRESH-INTERVAL:P3D
CALSCALE:GREGORIAN
BEGIN:VEVENT
DTSTART:20220907T173000Z
DTEND:20220908T010000Z
X-MICROSOFT-CDO-ALLDAYEVENT:FALSE
SUMMARY:Friends of the Ruth Culver Community Library Dinner & Golf Outing
DESCRIPTION:Join us for our 13th annual Golf Outing and Dinner.  This event is hosted by the Friends of the Ruth Culver Community Library and all proceeds will benefit the Ruth Culver Community Library.  Special opportunities to support the event as a sponsor are also available. Visit the event page at https://www.pdslibrary.org/golf-2022 for details.
X-ALT-DESC;FMTTYPE=text/html:<span style="background-color:rgb(255\, 255\, 255)\; color:rgb(51\, 51\, 51)\; font-family:roboto\,sans-serif\; font-size:16px">Join us for our 13th annual Golf Outing and Dinner.&nbsp\; This event is hosted by the Friends of the Ruth Culver Community Library and all proceeds will benefit the Ruth Culver Community Library.&nbsp\; Special opportunities to support the event as a sponsor are also available. Visit the event page at&nbsp\;</span><a href="https://www.pdslibrary.org/golf-2022" style="box-sizing: border-box\; color: rgb(70\, 50\, 135)\; text-decoration-line: none\; background-color: rgb(255\, 255\, 255)\; transition: all 0.2s ease-in-out 0s\; font-weight: 700\; font-family: Roboto\, &quot\;sans-serif&quot\;\; font-size: 16px\;">https://www.pdslibrary.org/golf-2022</a><span style="background-color:rgb(255\, 255\, 255)\; color:rgb(51\, 51\, 51)\; font-family:roboto\,sans-serif\; font-size:16px">&nbsp\;for details.</span>
LOCATION:Lake Wisconsin Country Club N1076 Golf Rd Prairie du Sac\, WI 53578
UID:e.1184.27979
SEQUENCE:3
DTSTAMP:20260421T061637Z
URL:http://members.saukprairie.com/events/details/friends-of-the-ruth-culver-community-library-dinner-golf-outing-27979
END:VEVENT

END:VCALENDAR
