BEGIN:VCALENDAR
VERSION:2.0
PRODID:-//ChamberMaster//Event Calendar 2.0//EN
METHOD:PUBLISH
X-PUBLISHED-TTL:P3D
REFRESH-INTERVAL:P3D
CALSCALE:GREGORIAN
BEGIN:VEVENT
DTSTART:20210908T170000Z
DTEND:20210909T000000Z
X-MICROSOFT-CDO-ALLDAYEVENT:FALSE
SUMMARY:Friends of the Ruth Culver Community Library Golf Outing
DESCRIPTION:Friends of the Ruth Culver Community Library 12th Annual Dinner & Golf Outing\n\n\n\nWednesday\, September 8\, 2021\n\n\n\nAt Lake Wisconsin Country Club\n\n\n\nProceeds benefit the Ruth Culver Community Library\n\n\n\nSchedule of Events:\n\n	Noon 12:45 PM: Registration\n	1:00 PM: Shotgun Start for Scramble\n	6:15 PM: Dinner & Prize Presentation\n\nReturn registration & payment by August 28 to:\n\nFriends of the Ruth Culver Community Library\n\n540 Water Street\n\nPrairie du Sac\, WI 53578\n\n\n\nMore information is available online at www.pdslibrary.org/golf-2021.\n\n\n\nParticipation & Sponsorship Costs:\n\nGolf & Dinner: $100/person\n\nScramble Format\, Includes 18 holes of golf\, golf cart and dinner.\n\n\n\nNot a golfer? Join us for Dinner Only: $30/person\n\nHole Sponsorship: Starting at $100\n\n\n\nSilent Auction & 50/50 Raffle: During the event\n\n\n\nFor more information contact:\n\nMeagan Statz @ Ruth Culver Community Library at 608.643.8318 or mstatz@pdslibrary.org\n\n\n\nSilent Auction items would be appreciated.
X-ALT-DESC;FMTTYPE=text/html:Friends of the Ruth Culver Community Library 12th Annual Dinner &amp\; Golf Outing<br />\n<br />\nWednesday\, September 8\, 2021<br />\n<br />\nAt Lake Wisconsin Country Club<br />\n<br />\nProceeds benefit the Ruth Culver Community Library<br />\n<br />\nSchedule of Events:\n<ul>\n	<li>Noon&mdash\;12:45 PM: Registration</li>\n	<li>1:00 PM: Shotgun Start for Scramble</li>\n	<li>6:15 PM: Dinner &amp\; Prize Presentation</li>\n</ul>\nReturn registration &amp\; payment by August 28 to:<br />\nFriends of the Ruth Culver Community Library<br />\n540 Water Street<br />\nPrairie du Sac\, WI 53578<br />\n<br />\nMore information is available online at www.pdslibrary.org/golf-2021.<br />\n<br />\nParticipation &amp\; Sponsorship Costs:<br />\nGolf &amp\; Dinner: $100/person<br />\nScramble Format\, Includes 18 holes of golf\, golf cart and dinner.<br />\n<br />\nNot a golfer? Join us for Dinner Only: $30/person<br />\nHole Sponsorship: Starting at $100<br />\n<br />\nSilent Auction &amp\; 50/50 Raffle: During the event<br />\n<br />\nFor more information contact:<br />\nMeagan Statz @ Ruth Culver Community Library at 608.643.8318 or mstatz@pdslibrary.org<br />\n<br />\nSilent Auction items would be appreciated.
LOCATION:
UID:e.1184.26679
SEQUENCE:3
DTSTAMP:20260421T231129Z
URL:http://members.saukprairie.com/events/details/friends-of-the-ruth-culver-community-library-golf-outing-26679
END:VEVENT

END:VCALENDAR
