BEGIN:VCALENDAR
VERSION:2.0
PRODID:-//ChamberMaster//Event Calendar 2.0//EN
METHOD:PUBLISH
X-PUBLISHED-TTL:P3D
REFRESH-INTERVAL:P3D
CALSCALE:GREGORIAN
BEGIN:VEVENT
DTSTART:20181130T150000Z
DTEND:20181130T233000Z
X-MICROSOFT-CDO-ALLDAYEVENT:FALSE
SUMMARY:Friends Rummage Sale
DESCRIPTION:The annual Friends of the Library Rummage sale will be held November 30 and December 1 during library operating hours. Help out the library by either donating items or buying something at the sale!
X-ALT-DESC;FMTTYPE=text/html:<p>The annual Friends of the Library Rummage sale will be held November 30 and December 1 during library operating hours. Help out the library by either donating items or buying something at the sale!</p>\n\n<p>&nbsp\;</p>\n
LOCATION:Sauk City Library 515 Water St. Sauk City\, WI
UID:e.1184.21488
SEQUENCE:3
DTSTAMP:20260424T022132Z
URL:http://members.saukprairie.com/events/details/friends-rummage-sale-21488
END:VEVENT

END:VCALENDAR
