BEGIN:VCALENDAR
VERSION:2.0
PRODID:-//ChamberMaster//Event Calendar 2.0//EN
METHOD:PUBLISH
X-PUBLISHED-TTL:P3D
REFRESH-INTERVAL:P3D
CALSCALE:GREGORIAN
BEGIN:VEVENT
DTSTART:20190424T000000Z
DTEND:20190424T010000Z
X-MICROSOFT-CDO-ALLDAYEVENT:FALSE
SUMMARY:From Military Facility to Green Space
DESCRIPTION:An evening program hosted by the West Point Area Historical Society. "From Military Facility to Green Space: The Amazing Transformation of the Badger Army Ammunition Plant." Presenter is Charlie Luthin of the Sauk Prairie Conservation Alliance.
X-ALT-DESC;FMTTYPE=text/html:An evening program hosted by the West Point Area Historical Society. &quot\;From Military Facility to Green Space: The Amazing Transformation of the Badger Army Ammunition Plant.&quot\; Presenter is Charlie Luthin of the Sauk Prairie Conservation Alliance.
LOCATION:West Point Town Hall N2114 Rausch Road Lodi\, WI 53555
UID:e.1184.22164
SEQUENCE:3
DTSTAMP:20260423T185714Z
URL:http://members.saukprairie.com/events/details/from-military-facility-to-green-space-04-23-2019-22164
END:VEVENT

END:VCALENDAR
