BEGIN:VCALENDAR
VERSION:2.0
PRODID:-//ChamberMaster//Event Calendar 2.0//EN
METHOD:PUBLISH
X-PUBLISHED-TTL:P3D
REFRESH-INTERVAL:P3D
CALSCALE:GREGORIAN
BEGIN:VEVENT
DTSTART:20191105T200000Z
DTEND:20191105T210000Z
X-MICROSOFT-CDO-ALLDAYEVENT:FALSE
SUMMARY:From Military Facility to Green Space
DESCRIPTION:Charlie Luthin from the Sauk Prairie Conservation Alliance will share a video documentary about the amazing transformation of the Badger Army Ammunition Plant into a public green space through the voices of diverse stakeholders in the process. There will be a question and answer session after the film.
X-ALT-DESC;FMTTYPE=text/html:Charlie Luthin from the Sauk Prairie Conservation Alliance will share a video documentary about the amazing transformation of the Badger Army Ammunition Plant into a public green space through the voices of diverse stakeholders in the process. There will be a question and answer session after the film.&nbsp\;
LOCATION:515 Water Street Sauk City\, WI 53583
UID:e.1184.23600
SEQUENCE:3
DTSTAMP:20260423T091640Z
URL:http://members.saukprairie.com/events/details/from-military-facility-to-green-space-11-05-2019-23600
END:VEVENT

END:VCALENDAR
