BEGIN:VCALENDAR
VERSION:2.0
PRODID:-//ChamberMaster//Event Calendar 2.0//EN
METHOD:PUBLISH
X-PUBLISHED-TTL:P3D
REFRESH-INTERVAL:P3D
CALSCALE:GREGORIAN
BEGIN:VEVENT
DTSTART:20190206T010000Z
DTEND:20190206T023000Z
X-MICROSOFT-CDO-ALLDAYEVENT:FALSE
SUMMARY:From Military Facility to Green Space
DESCRIPTION:An evening program hosted by The West Point Area Historical Society From Military Facility to Green Space: The Amazing Transformation of the Badger Army Ammunition Plant
X-ALT-DESC;FMTTYPE=text/html:An evening program hosted by The West Point Area Historical Society From Military Facility to Green Space: The Amazing Transformation of the Badger Army Ammunition Plant
LOCATION:West Point Town Hall\, N2114 Rausch Road\, Lodi\, WI 53555. Highway 188 and Rausch Road.
UID:e.1184.21978
SEQUENCE:3
DTSTAMP:20260423T213153Z
URL:http://members.saukprairie.com/events/details/from-military-facility-to-green-space-21978
END:VEVENT

END:VCALENDAR
