BEGIN:VCALENDAR
VERSION:2.0
PRODID:-//ChamberMaster//Event Calendar 2.0//EN
METHOD:PUBLISH
X-PUBLISHED-TTL:P3D
REFRESH-INTERVAL:P3D
CALSCALE:GREGORIAN
BEGIN:VEVENT
DTSTART:20241213T000000Z
DTEND:20241213T020000Z
X-MICROSOFT-CDO-ALLDAYEVENT:FALSE
SUMMARY:Frosty Cuts - Meat Raffle
DESCRIPTION:Come win some frosty meats! There will be a minimum of 10 rounds\, $1 per ticket each round. There may also be a 50/50 cash raffle dependent upon interest.\n\n \n\nFREE white elephant gift to anyone who attends that is brave enough to don their ugly holiday sweater!!
X-ALT-DESC;FMTTYPE=text/html:<div>\n<div>Come win some frosty meats! There will be a minimum of 10 rounds\, $1 per ticket each round. There may also be a 50/50 cash raffle dependent upon interest.<br />\n&nbsp\;</div>\n\n<div><strong><span style="background-color:#FFF0F5">FREE white elephant gift to anyone who attends that is brave enough to don their ugly holiday sweater!!</span></strong></div>\n</div>\n
LOCATION:MT Bottle Brewing Company
UID:e.1184.34588
SEQUENCE:3
DTSTAMP:20260419T143701Z
URL:http://members.saukprairie.com/events/details/frosty-cuts-meat-raffle-34588
END:VEVENT

END:VCALENDAR
