BEGIN:VCALENDAR
VERSION:2.0
PRODID:-//ChamberMaster//Event Calendar 2.0//EN
METHOD:PUBLISH
X-PUBLISHED-TTL:P3D
REFRESH-INTERVAL:P3D
CALSCALE:GREGORIAN
BEGIN:VEVENT
DTSTART:20200411T160000Z
DTEND:20200411T193000Z
X-MICROSOFT-CDO-ALLDAYEVENT:FALSE
SUMMARY:Fun with Trains
DESCRIPTION:Full steam ahead! Drop by the Ruth Culver Community Library Saturday\, April 11 between 11:00am and 2:30pm to view\, operate and play with model trains. All ages are welcome. Contact Beth at 643-8318 with questions.
X-ALT-DESC;FMTTYPE=text/html:Full steam ahead! Drop by the Ruth Culver Community Library Saturday\, April 11 between 11:00am and 2:30pm to view\, operate and play with model trains. All ages are welcome. Contact Beth at 643-8318 with questions.
LOCATION:Ruth Culver Community Library 540 Water Street\, Prairie du Sac
UID:e.1184.24127
SEQUENCE:3
DTSTAMP:20260423T011811Z
URL:http://members.saukprairie.com/events/details/fun-with-trains-24127
END:VEVENT

END:VCALENDAR
