BEGIN:VCALENDAR
VERSION:2.0
PRODID:-//ChamberMaster//Event Calendar 2.0//EN
METHOD:PUBLISH
X-PUBLISHED-TTL:P3D
REFRESH-INTERVAL:P3D
CALSCALE:GREGORIAN
BEGIN:VEVENT
DTSTART:20240808T010000Z
DTEND:20240808T040000Z
X-MICROSOFT-CDO-ALLDAYEVENT:FALSE
SUMMARY:Gabe Stillman at Water Street Social Club
DESCRIPTION:Come join us and listen to Gabe Stillman and his band at Water Street Social Club\n\n\n\nGabe Stillman and his band hit the stage in high gear as they embrace all corners of American Roots Music with their impromptu selection of original gems and carefully chosen covers. Since landing in the final 8 of the 35th Annual International Blues Challenge in Memphis TN\, and further honored as the recipient of the Gibson Guitar Award\, Gabe and his band have been focused on expanding their footprint on a national and international level. A graduate of Boston's Berklee College of Music\, Gabe's honors include an invitation to support ZZ Top\, Eric Gales\, Blues Traveler\, George Thorogood\, and more\; he was a Blues Music Award nominee in the Best New Emerging Artist Album category\; and The Gabe Stillman Band was selected as the Best Blues Band at the 3rd Annual Central PA Music Awards and has been nominated in the category in 2022\, 2023\, and 2024.\n\n\n\n$15 cover at the door.
X-ALT-DESC;FMTTYPE=text/html:<div><span style="color:rgb(34\, 34\, 34)\; font-family:arial\,helvetica\,sans-serif\; font-size:small">Come join us and listen to Gabe Stillman and his band at Water Street Social Club<br />\n<br />\nGabe</span><span style="color:rgb(34\, 34\, 34)\; font-family:arial\,helvetica\,sans-serif\; font-size:small">&nbsp\;</span><span style="color:rgb(34\, 34\, 34)\; font-family:arial\,helvetica\,sans-serif\; font-size:small">Stillman</span><span style="color:rgb(34\, 34\, 34)\; font-family:arial\,helvetica\,sans-serif\; font-size:small">&nbsp\;and his band hit the stage in high gear as they embrace all corners of American Roots Music with their impromptu selection of original gems and carefully chosen covers. Since landing in the final 8 of the 35th Annual International Blues Challenge in Memphis TN\, and further honored as the recipient of the Gibson Guitar Award\,&nbsp\;</span><span style="color:rgb(34\, 34\, 34)\; font-family:arial\,helvetica\,sans-serif\; font-size:small">Gabe</span><span style="color:rgb(34\, 34\, 34)\; font-family:arial\,helvetica\,sans-serif\; font-size:small">&nbsp\;and his band have been focused on expanding their footprint on a national and international level. A graduate of Boston&rsquo\;s Berklee College of Music\,&nbsp\;</span><span style="color:rgb(34\, 34\, 34)\; font-family:arial\,helvetica\,sans-serif\; font-size:small">Gabe</span><span style="color:rgb(34\, 34\, 34)\; font-family:arial\,helvetica\,sans-serif\; font-size:small">&rsquo\;s honors include an invitation to support ZZ Top\, Eric Gales\, Blues Traveler\, George Thorogood\, and more\; he was a Blues Music Award nominee in the Best New Emerging Artist Album category\; and The&nbsp\;</span><span style="color:rgb(34\, 34\, 34)\; font-family:arial\,helvetica\,sans-serif\; font-size:small">Gabe</span><span style="color:rgb(34\, 34\, 34)\; font-family:arial\,helvetica\,sans-serif\; font-size:small">&nbsp\;</span><span style="color:rgb(34\, 34\, 34)\; font-family:arial\,helvetica\,sans-serif\; font-size:small">Stillman</span><span style="color:rgb(34\, 34\, 34)\; font-family:arial\,helvetica\,sans-serif\; font-size:small">&nbsp\;Band was selected as the Best Blues Band at the 3rd Annual Central PA Music Awards and has been nominated in the category in 2022\, 2023\, and 2024.</span><br />\n<br />\n$15 cover at the door.&nbsp\;</div>\n
LOCATION:Water Street Social Club
UID:e.1184.32879
SEQUENCE:3
DTSTAMP:20260419T175904Z
URL:http://members.saukprairie.com/events/details/gabe-stillman-at-water-street-social-club-32879
END:VEVENT

END:VCALENDAR
