BEGIN:VCALENDAR
VERSION:2.0
PRODID:-//ChamberMaster//Event Calendar 2.0//EN
METHOD:PUBLISH
X-PUBLISHED-TTL:P3D
REFRESH-INTERVAL:P3D
CALSCALE:GREGORIAN
BEGIN:VEVENT
DTSTART:20160618T223000Z
DTEND:20160619T045500Z
X-MICROSOFT-CDO-ALLDAYEVENT:FALSE
SUMMARY:Gala for the Glen Annual Fundraiser
DESCRIPTION:We invite you to join us for the 2016 Gala for the Glen. This year's theme is a Garden Party.\n\nThe event will be held at St. Joseph's Catholic School Gym\, 300 2nd St\, Baraboo\, WI 53913\, on Saturday\, June 18th. Tickets are $50 each.\n\nThe doors will open at 5:30 p.m. for a social. 6:30 p.m. Dinner and Program.\n\nThe Gala for the Glen is one of the major fundraisers for Durward's Glen. We are extremely thankful for the people who have acted on our behalf. The financial support of our friends and supporters is helping the Glen expand its program offerings and make improvements to its facilities. Guests will learn more about our progress and our continued plans for the future.\n\nRaffle tickets are on sale prior to the event for a chance to win:\n\n      a week-long condo stay in Carolina Beach\, North Carolina\n\n      a weekend stay in Durward's Glen Artist Cottage\n\n      a fine gift from Sophie's Jewelry\n\n      a sports basket of items from Wisconsin's Sports Teams\n\n      a link bracelet by a local artist.\n\n      plus much more!\n\nRaffle tickets are $10 each and can be purchased from the Glen. The drawing will be held at 8:30 p.m. at the Gala.\n\nA Bucket Raffle will be held the night of the event for various prizes from local merchants and artists. Tickets can be purchased at the event for a $1 apiece.\n\nPlease contact Cathy Lins\, Director for more information on Durward's Glen Retreat and Educational Center. Contact Durward's Glen at Phone (608) 356-8113 or E-mailtheglen150@gmail.com to order dinner tickets or get your raffle tickets.
X-ALT-DESC;FMTTYPE=text/html:<p style="color: rgb(98\, 97\, 97)\; font-size: 14px\; line-height: 24px\; margin: 0px\; padding: 0px 0px 24px\; text-align: justify\; font-family: QuattrocentoSans-Regular\; background-color: rgb(226\, 178\, 65)\;">We invite you to join us for the 2016 Gala for the Glen. This year&#39\;s theme is a Garden Party.</p>\n\n<p style="color: rgb(98\, 97\, 97)\; font-size: 14px\; line-height: 24px\; margin: 0px\; padding: 0px 0px 24px\; text-align: justify\; font-family: QuattrocentoSans-Regular\; background-color: rgb(226\, 178\, 65)\;">The event will be held at St. Joseph&#39\;s Catholic School Gym\, 300 2nd St\, Baraboo\, WI 53913\, on Saturday\, June 18th. Tickets are $50 each.</p>\n\n<p style="color: rgb(98\, 97\, 97)\; font-size: 14px\; line-height: 24px\; margin: 0px\; padding: 0px 0px 24px\; text-align: justify\; font-family: QuattrocentoSans-Regular\; background-color: rgb(226\, 178\, 65)\;">The doors will open at 5:30 p.m. for a social. 6:30 p.m. Dinner and Program.</p>\n\n<p style="color: rgb(98\, 97\, 97)\; font-size: 14px\; line-height: 24px\; margin: 0px\; padding: 0px 0px 24px\; text-align: justify\; font-family: QuattrocentoSans-Regular\; background-color: rgb(226\, 178\, 65)\;">The Gala for the Glen is one of the major fundraisers for Durward&#39\;s Glen. We are extremely thankful for the people who have acted on our behalf. The financial support of our friends and supporters is helping the Glen expand its program offerings and make improvements to its facilities. Guests will learn more about our progress and our continued plans for the future.</p>\n\n<p style="color: rgb(98\, 97\, 97)\; font-size: 14px\; line-height: 24px\; margin: 0px\; padding: 0px 0px 24px\; text-align: justify\; font-family: QuattrocentoSans-Regular\; background-color: rgb(226\, 178\, 65)\;">Raffle tickets are on sale prior to the event for a chance to win:<br />\n&nbsp\; &nbsp\; &bull\; a week-long condo stay in Carolina Beach\, North Carolina<br />\n&nbsp\; &nbsp\; &bull\; a weekend stay in Durward&rsquo\;s Glen Artist Cottage<br />\n&nbsp\; &nbsp\; &bull\; a fine gift from Sophie&rsquo\;s Jewelry<br />\n&nbsp\; &nbsp\; &bull\; a sports basket of items from Wisconsin&#39\;s Sports Teams<br />\n&nbsp\; &nbsp\; &bull\; a link bracelet by a local artist.<br />\n&nbsp\; &nbsp\; &bull\; plus much more!</p>\n\n<p style="color: rgb(98\, 97\, 97)\; font-size: 14px\; line-height: 24px\; margin: 0px\; padding: 0px 0px 24px\; text-align: justify\; font-family: QuattrocentoSans-Regular\; background-color: rgb(226\, 178\, 65)\;">Raffle tickets are $10 each and can be purchased from the Glen. The drawing will be held at 8:30 p.m. at the Gala.</p>\n\n<p style="color: rgb(98\, 97\, 97)\; font-size: 14px\; line-height: 24px\; margin: 0px\; padding: 0px 0px 24px\; text-align: justify\; font-family: QuattrocentoSans-Regular\; background-color: rgb(226\, 178\, 65)\;">A Bucket Raffle will be held the night of the event for various prizes from local merchants and artists. Tickets can be purchased at the event for a $1 apiece.</p>\n\n<p style="color: rgb(98\, 97\, 97)\; font-size: 14px\; line-height: 24px\; margin: 0px\; padding: 0px 0px 24px\; text-align: justify\; font-family: QuattrocentoSans-Regular\; background-color: rgb(226\, 178\, 65)\;">Please contact Cathy Lins\, Director for more information on Durward&#39\;s Glen Retreat and Educational Center. Contact Durward&#39\;s Glen at Phone (608) 356-8113 or E-mail<a href="mailto:theglen150@gmail.com" style="color: rgb(98\, 97\, 97)\;">theglen150</a><a href="mailto:theglen150@gmail.com" style="color: rgb(98\, 97\, 97)\;">@gmail.com</a>&nbsp\;to order dinner tickets or get your raffle tickets.</p>\n
LOCATION:St. Joseph's Catholic School Gym\, 300 2nd St\, Baraboo
UID:e.1184.8590
SEQUENCE:3
DTSTAMP:20260426T020743Z
URL:http://members.saukprairie.com/events/details/gala-for-the-glen-annual-fundraiser-06-18-2016-8590
END:VEVENT

END:VCALENDAR
