BEGIN:VCALENDAR
VERSION:2.0
PRODID:-//ChamberMaster//Event Calendar 2.0//EN
METHOD:PUBLISH
X-PUBLISHED-TTL:P3D
REFRESH-INTERVAL:P3D
CALSCALE:GREGORIAN
BEGIN:VEVENT
DTSTART:20200215T190000Z
DTEND:20200215T213000Z
X-MICROSOFT-CDO-ALLDAYEVENT:FALSE
SUMMARY:Galentine's Day Wood Sign Workshop
DESCRIPTION:Reserve your spot at our Galentine's Workshop on February 15\, 2020! Grab your closest friends and we'll supply the wine for an epic ladies night! Each guest that registers will receive a complimentary goodie bag full of fun surprises and treats.
X-ALT-DESC;FMTTYPE=text/html:<span style="font-size:14px"><span style="font-family:arial\,helvetica\,sans-serif"><span style="color:rgb(0\, 0\, 0)">Reserve your spot at our Galentine&#39\;s Workshop on February 15\, 2020! Grab your closest friends and we&#39\;ll supply the wine for an epic ladies night! Each guest that registers will receive a complimentary goodie bag full of fun surprises and treats.</span></span></span>
LOCATION:Home by Hayley 421 Water St #105 Prairie du Sac\, WI 53578
UID:e.1184.23990
SEQUENCE:3
DTSTAMP:20260423T041401Z
URL:http://members.saukprairie.com/events/details/galentine-s-day-wood-sign-workshop-23990
END:VEVENT

END:VCALENDAR
