BEGIN:VCALENDAR
VERSION:2.0
PRODID:-//ChamberMaster//Event Calendar 2.0//EN
METHOD:PUBLISH
X-PUBLISHED-TTL:P3D
REFRESH-INTERVAL:P3D
CALSCALE:GREGORIAN
BEGIN:VEVENT
DTSTART:20190808T233000Z
DTEND:20190809T004500Z
X-MICROSOFT-CDO-ALLDAYEVENT:FALSE
SUMMARY:Game On!
DESCRIPTION:Teen Thursday.\n\nDrop by the library to try out some new games in virtual reality\, pick up some new moves on Wii\, and challenge your friends at Sphero bowling or mazes. For grades 6-12.
X-ALT-DESC;FMTTYPE=text/html:Teen Thursday.<br />\nDrop by the library to try out some new games in virtual reality\, pick up some new moves on Wii\, and challenge your friends at Sphero bowling or mazes. For grades 6-12.
LOCATION:515 Water Street Sauk City\, WI 53583
UID:e.1184.22631
SEQUENCE:3
DTSTAMP:20260423T124106Z
URL:http://members.saukprairie.com/events/details/game-on-08-08-2019-22631
END:VEVENT

END:VCALENDAR
